BEGIN:VCALENDAR
VERSION:2.0
PRODID:-//ChamberMaster//Event Calendar 2.0//EN
METHOD:PUBLISH
X-PUBLISHED-TTL:P3D
REFRESH-INTERVAL:P3D
CALSCALE:GREGORIAN
BEGIN:VEVENT
DTSTART:20171128T213000Z
DTEND:20171128T233000Z
X-MICROSOFT-CDO-ALLDAYEVENT:FALSE
SUMMARY:Mad Scientist's Club
DESCRIPTION:Do you love experimenting? All ages\, from toddlers to teens\, are invited to join us at Mad Scientists Club for projects and exploration of fun science topics. Drop in any time between 3:30 and 5:30pm to make a science-themed project and try out an experiment. We provide the materials\, you provide the imagination!
X-ALT-DESC;FMTTYPE=text/html:<span style="color:rgb(0\, 0\, 0)\; font-family:arial\; font-size:14.6667px">Do you love experimenting? All ages\, from toddlers to teens\, are invited to join us at Mad Scientists Club for projects and exploration of fun science topics. Drop in any time between 3:30 and 5:30pm to make a science-themed project and try out an experiment. We provide the materials\, you provide the imagination!</span>
LOCATION:Matheson Memorial Library
UID:e.2059.6970
SEQUENCE:3
DTSTAMP:20260422T182758Z
URL:https://business.elkhornchamber.com/events/details/mad-scientist-s-club-6970
END:VEVENT

END:VCALENDAR
