BEGIN:VCALENDAR
VERSION:2.0
PRODID:-//ChamberMaster//Event Calendar 2.0//EN
METHOD:PUBLISH
X-PUBLISHED-TTL:P3D
REFRESH-INTERVAL:P3D
CALSCALE:GREGORIAN
BEGIN:VEVENT
DTSTART:20180410T203000Z
DTEND:20180410T223000Z
X-MICROSOFT-CDO-ALLDAYEVENT:FALSE
SUMMARY:Mad Scientist's Club
DESCRIPTION:Do you love experimenting? All ages\, from toddlers to teens\, are invited to join us at Mad Scientists Club for projects and exploration of fun science topics. Drop in any time between 3:30 and 5:30 PM to make a science-themed project and try out an experiment. We provide the materials\, you provide the imagination!
X-ALT-DESC;FMTTYPE=text/html:<p><span style="font-family:arial\; font-size:14.6667px">Do you love experimenting? All ages\, from toddlers to teens\, are invited to join us at Mad Scientists Club for projects and exploration of fun science topics. Drop in any time between 3:30 and 5:30 PM to make a science-themed project and try out an experiment.&nbsp\;</span><span style="font-family:arial\; font-size:14.6667px">We provide the materials\, you provide the imagination!</span></p>\n
LOCATION:Matheson Memorial Library
UID:e.2059.7585
SEQUENCE:3
DTSTAMP:20260422T115038Z
URL:https://business.elkhornchamber.com/events/details/mad-scientist-s-club-04-10-2018-7585
END:VEVENT

END:VCALENDAR
