BEGIN:VCALENDAR
VERSION:2.0
PRODID:-//ChamberMaster//Event Calendar 2.0//EN
METHOD:PUBLISH
X-PUBLISHED-TTL:P3D
REFRESH-INTERVAL:P3D
CALSCALE:GREGORIAN
BEGIN:VEVENT
DTSTART:20180714T130000Z
DTEND:20180714T200000Z
X-MICROSOFT-CDO-ALLDAYEVENT:FALSE
SUMMARY:Lyle's Appliance RibFest & Kids Que
DESCRIPTION:1st Annual Lyle's Appliance RibFest & Kids Que to benefit the Ronald McDonald House during the Elkhorn RibFest at the Walworth County Fairgrounds. Ameteur Rib Contest & Kids BBQ Competition!!! Call Lyle's Appliance for details and additional information!
X-ALT-DESC;FMTTYPE=text/html:1st Annual Lyle&#39\;s Appliance RibFest &amp\; Kids Que to benefit the Ronald McDonald House during the Elkhorn RibFest at the Walworth County Fairgrounds. Ameteur Rib Contest &amp\; Kids BBQ Competition!!! Call Lyle&#39\;s Appliance for details and additional information!
LOCATION:Walworth County Fairgrounds 411 E. Court Street Elkhorn\, WI 53121
UID:e.2059.9128
SEQUENCE:3
DTSTAMP:20260422T054641Z
URL:https://business.elkhornchamber.com/events/details/lyle-s-appliance-ribfest-kids-que-9128
END:VEVENT

END:VCALENDAR
