BEGIN:VCALENDAR
VERSION:2.0
PRODID:-//ChamberMaster//Event Calendar 2.0//EN
METHOD:PUBLISH
X-PUBLISHED-TTL:P3D
REFRESH-INTERVAL:P3D
CALSCALE:GREGORIAN
BEGIN:VEVENT
DTSTART:20150807T210000Z
DTEND:20150808T010000Z
X-MICROSOFT-CDO-ALLDAYEVENT:FALSE
SUMMARY:Lutherdale Quilt Preview and Fish Fry
DESCRIPTION:View the quilts that will be up for auction. Submit silent bids and vote on viewers choice awards. Enjoy a traditional Fish Fry and stroll through camp. Fresh baked goods will be for sale along with Crafts\, Odds & Ends and fresh produce from the Lutherdale Garden.
X-ALT-DESC;FMTTYPE=text/html:View the quilts that will be up for auction. Submit silent bids and vote on viewers choice awards. Enjoy a traditional Fish Fry and stroll through camp. Fresh baked goods will be for sale along with Crafts\, Odds &amp\; Ends and fresh produce from the Lutherdale Garden.
LOCATION:Lutherdale Camp N7891 US Hwy 12\, Elkhorn
UID:e.2059.865
SEQUENCE:3
DTSTAMP:20260424T161604Z
URL:https://business.elkhornchamber.com/events/details/lutherdale-quilt-preview-and-fish-fry-08-07-2015-865
END:VEVENT

END:VCALENDAR
