BEGIN:VCALENDAR
VERSION:2.0
PRODID:-//ChamberMaster//Event Calendar 2.0//EN
METHOD:PUBLISH
X-PUBLISHED-TTL:P3D
REFRESH-INTERVAL:P3D
CALSCALE:GREGORIAN
BEGIN:VEVENT
DTSTART:20190602T180000Z
DTEND:20190602T210000Z
X-MICROSOFT-CDO-ALLDAYEVENT:FALSE
SUMMARY:Lutherdale Open House
DESCRIPTION:You are invited to meet staff and experience\, a tour of camp\, archery\, the climbing tower\, waterfront activities\, the slip & slide\, ga ga ball\, and the farm.
X-ALT-DESC;FMTTYPE=text/html:You are invited to meet staff and experience\, a tour of camp\, archery\, the climbing tower\, waterfront activities\, the slip &amp\; slide\, ga ga ball\, and the farm.&nbsp\;
LOCATION:Lutherdale N7891 US HWY 12 Elkhorn WI 53121
UID:e.2059.10757
SEQUENCE:3
DTSTAMP:20260421T032324Z
URL:https://business.elkhornchamber.com/events/details/lutherdale-open-house-10757
END:VEVENT

END:VCALENDAR
