BEGIN:VCALENDAR
VERSION:2.0
PRODID:-//ChamberMaster//Event Calendar 2.0//EN
METHOD:PUBLISH
X-PUBLISHED-TTL:P3D
REFRESH-INTERVAL:P3D
CALSCALE:GREGORIAN
BEGIN:VEVENT
DTSTART:20150925T213000Z
DTEND:20150926T003000Z
X-MICROSOFT-CDO-ALLDAYEVENT:FALSE
SUMMARY:Lutherdale Friday Fish Fry
DESCRIPTION:Menu Includes: Traditional Baked or Fried Cod\, Choice of Potato\, Cole Slaw\, Bread & Butter\, Applesauce\, Beverage and Dessert. Each event will also feature a specialty fish choice.
X-ALT-DESC;FMTTYPE=text/html:Menu Includes: Traditional Baked or Fried Cod\, Choice of Potato\, Cole Slaw\, Bread &amp\; Butter\, Applesauce\, Beverage and Dessert. Each event will also feature a specialty fish choice.
LOCATION:Lutherdale Camp N7891 US Hwy 12\, Elkhorn
UID:e.2059.862
SEQUENCE:3
DTSTAMP:20260424T141732Z
URL:https://business.elkhornchamber.com/events/details/lutherdale-friday-fish-fry-09-25-2015-862
END:VEVENT

END:VCALENDAR
