BEGIN:VCALENDAR
VERSION:2.0
PRODID:-//ChamberMaster//Event Calendar 2.0//EN
METHOD:PUBLISH
X-PUBLISHED-TTL:P3D
REFRESH-INTERVAL:P3D
CALSCALE:GREGORIAN
BEGIN:VEVENT
DTSTART:20160813T130000Z
DTEND:20160813T210000Z
X-MICROSOFT-CDO-ALLDAYEVENT:FALSE
SUMMARY:Lutherdale Fest Quilt Auction
DESCRIPTION:Live auction over 200 quilts along with a silent auction. Crafts and Odds & Ends tents and food concessions featuring fresh baked goods and pies. Pontoon rides on the lake and door prizes.
X-ALT-DESC;FMTTYPE=text/html:Live auction over 200 quilts along with a silent auction. Crafts and Odds &amp\; Ends tents and food concessions featuring fresh baked goods and pies. Pontoon rides on the lake and door prizes.
LOCATION:Lutherdale Camp N7891 US Highway 12 Elkhorn\, WI
UID:e.2059.2079
SEQUENCE:3
DTSTAMP:20260423T220909Z
URL:https://business.elkhornchamber.com/events/details/lutherdale-fest-quilt-auction-08-13-2016-2079
END:VEVENT

END:VCALENDAR
