BEGIN:VCALENDAR
VERSION:2.0
PRODID:-//ChamberMaster//Event Calendar 2.0//EN
METHOD:PUBLISH
X-PUBLISHED-TTL:P3D
REFRESH-INTERVAL:P3D
CALSCALE:GREGORIAN
BEGIN:VEVENT
DTSTART:20151005T233000Z
DTEND:20151006T010000Z
X-MICROSOFT-CDO-ALLDAYEVENT:FALSE
SUMMARY:Local History Month-Meet Mary Sturges\, Survivor of the Great Chicago Fire
DESCRIPTION:Join professional reenactor Chris Brookes as she brings to life Mary Delafield Sturges\, survivor of the Great Chicago Fire\, devoted wife and mother\, philanthropist\, and advocate for women. This first-person portrayal takes you back to the turn of the Twentieth Century as Mary recalls family anecdotes\, describes life among Chicago's elite\, and reminisces about the Fire\, the World Columbian Exposition\, and more!
X-ALT-DESC;FMTTYPE=text/html:<span style="color:rgb(0\, 0\, 0)\; font-family:verdana\; font-size:14.3999996185303px">Join professional reenactor Chris Brookes as she brings to life Mary Delafield Sturges\, survivor of the Great Chicago Fire\, devoted wife and mother\, philanthropist\, and advocate for women. This first-person portrayal takes you back to the turn of the Twentieth Century as Mary recalls family anecdotes\, describes life among Chicago&#39\;s elite\, and reminisces about the Fire\, the World Columbian Exposition\, and more!</span>
LOCATION:Matheson Memorial Library-Community Center
UID:e.2059.1691
SEQUENCE:3
DTSTAMP:20260424T124515Z
URL:https://business.elkhornchamber.com/events/details/local-history-month-meet-mary-sturges-survivor-of-the-great-chicago-fire-10-05-2015-1691
END:VEVENT

END:VCALENDAR
