BEGIN:VCALENDAR
VERSION:2.0
PRODID:-//ChamberMaster//Event Calendar 2.0//EN
METHOD:PUBLISH
X-PUBLISHED-TTL:P3D
REFRESH-INTERVAL:P3D
CALSCALE:GREGORIAN
BEGIN:VEVENT
DTSTART:20151012T233000Z
DTEND:20151013T010000Z
X-MICROSOFT-CDO-ALLDAYEVENT:FALSE
SUMMARY:Local History Month-Getting Started with Genealogy
DESCRIPTION:Please join us for a presentation from the Walworth County Genealogical Society on taking the first steps to researching your family history. There are a lot of resources out there\, but we will guide you through getting started with your family tree\, important research sources\, and tips to make it easier to begin this rewarding journey.
X-ALT-DESC;FMTTYPE=text/html:<span style="color:rgb(0\, 0\, 0)\; font-family:verdana\; font-size:14.3999996185303px">Please join us for a presentation from the Walworth County Genealogical Society on taking the first steps to researching your family history. There are a lot of resources out there\, but we will guide you through getting started with your family tree\, important research sources\, and tips to make it easier to begin this rewarding journey.</span>
LOCATION:Matheson Memorial Library-Community Center
UID:e.2059.1692
SEQUENCE:3
DTSTAMP:20260424T124125Z
URL:https://business.elkhornchamber.com/events/details/local-history-month-getting-started-with-genealogy-10-12-2015-1692
END:VEVENT

END:VCALENDAR
