BEGIN:VCALENDAR
VERSION:2.0
PRODID:-//ChamberMaster//Event Calendar 2.0//EN
METHOD:PUBLISH
X-PUBLISHED-TTL:P3D
REFRESH-INTERVAL:P3D
CALSCALE:GREGORIAN
BEGIN:VEVENT
DTSTART:20151026T233000Z
DTEND:20151027T010000Z
X-MICROSOFT-CDO-ALLDAYEVENT:FALSE
SUMMARY:Local History Month-A History of Elkhorn and its Newspaper with Frank Eames
DESCRIPTION:Since the Nineteenth Century\, the Elkhorn Independent has been the leading newspaper of this community. Please join us at 6:30pm for a fascinating talk given by local historian and former owner of the Elkhorn Independent\, Frank Eames. Mr. Eames will discuss the many changes that have taken place during his tenure at the newspa-per\, and offer many intriguing anecdotes about the history of our city. Presented by the Walworth County Historical Society.
X-ALT-DESC;FMTTYPE=text/html:Since the Nineteenth Century\, the Elkhorn Independent has been the leading newspaper of this community. Please join us at 6:30pm for a fascinating talk given by local historian and former owner of the Elkhorn Independent\, Frank Eames. Mr. Eames will discuss the many changes that have taken place during his tenure at the newspa-per\, and offer many intriguing anecdotes about the history of our city. Presented by the Walworth County Historical Society.
LOCATION:Matheson Memorial Library-Community Center
UID:e.2059.1693
SEQUENCE:3
DTSTAMP:20260424T124516Z
URL:https://business.elkhornchamber.com/events/details/local-history-month-a-history-of-elkhorn-and-its-newspaper-with-frank-eames-10-26-2015-1693
END:VEVENT

END:VCALENDAR
