BEGIN:VCALENDAR
VERSION:2.0
PRODID:-//ChamberMaster//Event Calendar 2.0//EN
METHOD:PUBLISH
X-PUBLISHED-TTL:P3D
REFRESH-INTERVAL:P3D
CALSCALE:GREGORIAN
BEGIN:VEVENT
DTSTART:20170217T003000Z
DTEND:20170217T020000Z
X-MICROSOFT-CDO-ALLDAYEVENT:FALSE
SUMMARY:Local Art & Love Songs
DESCRIPTION:Please join us for a romantic evening of love songs from many decades performed by Brett Gaertner\, a favorite acoustic musician from the Milwaukee area\, and beautiful artworld created by local artists from the Elkhorn Arts Foundation. Refreshments will be provided\, and children's activities will be going on in Youth area of the library!
X-ALT-DESC;FMTTYPE=text/html:Please join us for a romantic evening of love songs from many decades performed by Brett Gaertner\, a favorite acoustic musician from the Milwaukee area\, and beautiful artworld created by local artists from the Elkhorn Arts Foundation. Refreshments will be provided\, and children&#39\;s activities will be going on in Youth area of the library!
LOCATION:Matheson Memorial Library
UID:e.2059.4634
SEQUENCE:3
DTSTAMP:20260423T111815Z
URL:https://business.elkhornchamber.com/events/details/local-art-love-songs-4634
END:VEVENT

END:VCALENDAR
