BEGIN:VCALENDAR
VERSION:2.0
PRODID:-//ChamberMaster//Event Calendar 2.0//EN
METHOD:PUBLISH
X-PUBLISHED-TTL:P3D
REFRESH-INTERVAL:P3D
CALSCALE:GREGORIAN
BEGIN:VEVENT
DTSTART:20190610T200000Z
DTEND:20190611T220000Z
X-MICROSOFT-CDO-ALLDAYEVENT:FALSE
SUMMARY:Living with Dementia - Early Stage
DESCRIPTION:Come learn more about the early stages of Dementia and Alzheimer's disease at AMG Aurora Clinic for three consecutive Mondays starting June 10th\, 17th & 24th from 3 -5 pm.
X-ALT-DESC;FMTTYPE=text/html:Come learn more about the early stages of Dementia and Alzheimer&#39\;s disease at AMG Aurora Clinic for three consecutive Mondays starting June 10th\, 17th &amp\; 24th from 3 -5 pm.&nbsp\;
LOCATION:AMG Aurora Clinic 146 East Geneva Square Lake Geneva\, WI 53147
UID:e.2059.10952
SEQUENCE:3
DTSTAMP:20260421T033411Z
URL:https://business.elkhornchamber.com/events/details/living-with-dementia-early-stage-10952
END:VEVENT

END:VCALENDAR
