BEGIN:VCALENDAR
VERSION:2.0
PRODID:-//ChamberMaster//Event Calendar 2.0//EN
METHOD:PUBLISH
X-PUBLISHED-TTL:P3D
REFRESH-INTERVAL:P3D
CALSCALE:GREGORIAN
BEGIN:VEVENT
DTSTART;VALUE=DATE:20140902
DTEND;VALUE=DATE:20141001
TRANSP:TRANSPARENT
X-MICROSOFT-CDO-ALLDAYEVENT:TRUE
SUMMARY:Literary Pumpkin Contest
DESCRIPTION:Adults or families can enter a craft pumpkin or gourd (not real ones) during the month of September to Matheson Memorial Library. Use your imagination to create a pumpkin based on a book. The pumpkins will then be displayed the month of October. Two winners will receive a $20 Amazon gift card based on creativity\, originality and attention to detail. Winners will be announce on October 1st.
X-ALT-DESC;FMTTYPE=text/html:Adults or families can enter a craft pumpkin or gourd (not real ones) during the month of September to Matheson Memorial Library. Use your imagination to create a pumpkin based on a book. The pumpkins will then be displayed the month of October. Two winners will receive a $20 Amazon gift card based on creativity\, originality and attention to detail. Winners will be announce on October 1st.
LOCATION:Matheson Memorial Library 101 N. Wisconsin St.\, Elkhorn
UID:e.2059.473
SEQUENCE:3
DTSTAMP:20260425T104342Z
URL:https://business.elkhornchamber.com/events/details/literary-pumpkin-contest-09-02-2014-473
END:VEVENT

END:VCALENDAR
