BEGIN:VCALENDAR
VERSION:2.0
PRODID:-//ChamberMaster//Event Calendar 2.0//EN
METHOD:PUBLISH
X-PUBLISHED-TTL:P3D
REFRESH-INTERVAL:P3D
CALSCALE:GREGORIAN
BEGIN:VEVENT
DTSTART:20151017T140000Z
DTEND:20151017T170000Z
X-MICROSOFT-CDO-ALLDAYEVENT:FALSE
SUMMARY:Lights and Ladders
DESCRIPTION:For little ones who might be wondering just what keeps the city running smoothly - come and explore Fire Trucks\, Ambulances\, Police Cars\, Fork Lifts and Dump Trucks and see how things work! Spend the morning with your friends and family next to City Hall on South Broad Street with vehicle tours. Don't forget to stop down at Oktoberfest afterwards that will be going on in the Downtown Square.
X-ALT-DESC;FMTTYPE=text/html:For little ones who might be wondering just what keeps the city running smoothly - come and explore Fire Trucks\, Ambulances\, Police Cars\, Fork Lifts and Dump Trucks and see how things work! Spend the morning with your friends and family next to City Hall on South Broad Street with vehicle tours. Don&#39\;t forget to stop down at Oktoberfest afterwards that will be going on in the Downtown Square.
LOCATION:South Broad Street (Next to City Hall)
UID:e.2059.440
SEQUENCE:3
DTSTAMP:20260424T123842Z
URL:https://business.elkhornchamber.com/events/details/lights-and-ladders-10-17-2015-440
END:VEVENT

END:VCALENDAR
