BEGIN:VCALENDAR
VERSION:2.0
PRODID:-//ChamberMaster//Event Calendar 2.0//EN
METHOD:PUBLISH
X-PUBLISHED-TTL:P3D
REFRESH-INTERVAL:P3D
CALSCALE:GREGORIAN
BEGIN:VEVENT
DTSTART:20191214T163000Z
DTEND:20191214T180000Z
X-MICROSOFT-CDO-ALLDAYEVENT:FALSE
SUMMARY:Life Size Candyland
DESCRIPTION:Bring the whole family for a journey to Candyland at the library! You can play the game\, picking up sweet treats along the way\, or join in the activities and crafts in the Community Room while waiting your turn at the giant game board. Meet the real Grandma Nut\, Lolli Princess\, and Queen Frosty\, peek inside our life-size gingerbread house\, and much more! All ages and abilities welcome. Please contact a librarian in advance for any allergies and we will make sure safe treats are available.
X-ALT-DESC;FMTTYPE=text/html:<span style="background-color:transparent\; color:rgb(0\, 0\, 0)\; font-family:arial\; font-size:11pt">Bring the whole family for a journey to Candyland at the library! You can play the game\, picking up sweet treats along the way\, or join in the activities and crafts in the Community Room while waiting your turn at the giant game board. Meet the real Grandma Nut\, Lolli Princess\, and Queen Frosty\, peek inside our life-size gingerbread house\, and much more! All ages and abilities welcome. Please contact a librarian in advance for any allergies and we will make sure safe treats are available.</span>
LOCATION:Matheson Memorial Library
UID:e.2059.11263
SEQUENCE:3
DTSTAMP:20260419T233015Z
URL:https://business.elkhornchamber.com/events/details/life-size-candyland-12-14-2019-11263
END:VEVENT

END:VCALENDAR
