BEGIN:VCALENDAR
VERSION:2.0
PRODID:-//ChamberMaster//Event Calendar 2.0//EN
METHOD:PUBLISH
X-PUBLISHED-TTL:P3D
REFRESH-INTERVAL:P3D
CALSCALE:GREGORIAN
BEGIN:VEVENT
DTSTART:20180816T200000Z
DTEND:20180816T210000Z
X-MICROSOFT-CDO-ALLDAYEVENT:FALSE
SUMMARY:Life of Amelia Earhart presented by Jim Gibbons
DESCRIPTION:Celebrate National Aviation Day with \n3rd Thurs @ 3: Life of Amelia Earhart presented by Jim Gibbons\n\n\nWww.jimgibbonshistorian.com\n\nAugust 19th is National Aviation Day
X-ALT-DESC;FMTTYPE=text/html:Celebrate National Aviation Day with&nbsp\;\n<h4 class="x-el x-el-h4 px_-letter-spacing-normal px_-overflow-wrap-break-word px_-word-wrap-break-word px_-word-break-break-word px_-fs-20 px_-c-rgb27__27__27 px_-fw-400 px_-lh-1p25 px_-ml-0 px_-mr-0 px_-mt-0 px_-mb-0 px_-ff-_Crimson_Text___Georgia__serif _mdpx_-fs-22 _lgpx_-fs-22 x-d-ux" data-ux="Heading" style="box-sizing: border-box\; font-size: 22px\; overflow-wrap: break-word\; word-wrap: break-word\; word-break: break-word\; margin: 0px\; font-family: &quot\;Crimson Text&quot\;\, Georgia\, serif\; color: rgb(27\, 27\, 27)\; line-height: 1.25\;">3rd Thurs @ 3: Life of Amelia Earhart presented by Jim Gibbons</h4>\n\n<div class="x-el x-el-div px_-letter-spacing-1px px_-ff-_Mr_De_Haviland___cursive px_-fs-20 _mdpx_-fs-20 _lgpx_-fs-20 x-d-ux x-d-aid" data-aid="CALENDAR_DESC" data-ux="Block" style="box-sizing: border-box\; letter-spacing: 1px\; font-family: &quot\;Mr De Haviland&quot\;\, cursive\; font-size: 20px\; color: rgb(0\, 0\, 0)\;">\n<p class="x-el x-el-p px_-letter-spacing-normal px_-overflow-wrap-break-word px_-word-wrap-break-word px_-word-break-break-word px_-c-rgb94__94__94 px_-fs-16 px_-fw-400 px_-lh-1p5 px_-mt-12px px_-mb-0 px_-ff-_Crimson_Text___Georgia__serif _mdpx_-fs-16 _lgpx_-fs-16 x-d-ux x-d-aid" data-aid="CALENDAR_DESC_TEXT" data-ux="Text" style="box-sizing: border-box\; letter-spacing: normal\; overflow-wrap: break-word\; word-wrap: break-word\; word-break: break-word\; color: rgb(94\, 94\, 94)\; font-size: 16px\; line-height: 1.5\; margin-bottom: 0px\; font-family: &quot\;Crimson Text&quot\;\, Georgia\, serif\; margin-top: 12px\;"><span class="x-el x-el-span px_-letter-spacing-normal px_-ff-_Crimson_Text___Georgia__serif px_-fs-16 _mdpx_-fs-16 _lgpx_-fs-16 x-d-ux x-d-aid" data-aid="CALENDAR_DESC_BEGINNING" data-ux="Element" style="box-sizing: border-box\;">Www.jimgibbonshistorian.com<br />\nAugust 19th is National Aviation Day</span></p>\n</div>\n
LOCATION:Walworth County Historical Society\, Webster House Museum\, 9 E Rockwell St\, Elkhorn\, WI 53121
UID:e.2059.9439
SEQUENCE:3
DTSTAMP:20260422T040108Z
URL:https://business.elkhornchamber.com/events/details/life-of-amelia-earhart-presented-by-jim-gibbons-9439
END:VEVENT

END:VCALENDAR
