BEGIN:VCALENDAR
VERSION:2.0
PRODID:-//ChamberMaster//Event Calendar 2.0//EN
METHOD:PUBLISH
X-PUBLISHED-TTL:P3D
REFRESH-INTERVAL:P3D
CALSCALE:GREGORIAN
BEGIN:VEVENT
DTSTART:20160416T233000Z
DTEND:20160416T233000Z
X-MICROSOFT-CDO-ALLDAYEVENT:FALSE
SUMMARY:Let's Celebrate - Walworth County Cloggers
DESCRIPTION:The Walworth County Cloggers youth performances team will be performing "Let's Celebrate" a fast paced\, high-energy\, clogging show celebrating Walworth County Cloggers 20th Anniversary. This is their 8th showcase performance at the auditorium. Dancers come together on the big stage at Young Auditorium to demonstrate their love of this unique dace form to songs the audience is sure to recognize.\n\nYou may have seen this talented group at local fairs and festivals but you haven't seen anything until you catch their big stage performance. The show is very different. The special lighting and additional effects make this show a don't miss event!
X-ALT-DESC;FMTTYPE=text/html:The Walworth County Cloggers youth performances team will be performing &quot\;Let&#39\;s Celebrate&quot\; a fast paced\, high-energy\, clogging show celebrating Walworth County Cloggers 20th Anniversary. This is their 8th showcase performance at the auditorium. Dancers come together on the big stage at Young Auditorium to demonstrate their love of this unique dace form to songs the audience is sure to recognize.<br />\nYou may have seen this talented group at local fairs and festivals but you haven&#39\;t seen anything until you catch their big stage performance. The show is very different. The special lighting and additional effects make this show a don&#39\;t miss event!
LOCATION:Young Auditorium UW Whitewater
UID:e.2059.3408
SEQUENCE:3
DTSTAMP:20260424T030547Z
URL:https://business.elkhornchamber.com/events/details/let-s-celebrate-walworth-county-cloggers-04-16-2016-3408
END:VEVENT

END:VCALENDAR
