BEGIN:VCALENDAR
VERSION:2.0
PRODID:-//ChamberMaster//Event Calendar 2.0//EN
METHOD:PUBLISH
X-PUBLISHED-TTL:P3D
REFRESH-INTERVAL:P3D
CALSCALE:GREGORIAN
BEGIN:VEVENT
DTSTART:20170926T203000Z
DTEND:20170926T223000Z
X-MICROSOFT-CDO-ALLDAYEVENT:FALSE
SUMMARY:Lego Club
DESCRIPTION:Children of all ages\, from toddlers to teens\, are invited to drop in between 3:30 and 5:30pm and build with Legos. Stay for ten minutes or the full two hours\, then display your creations in the library until the next club meeting. The library supplies the Legos\, you supply the imagination!
X-ALT-DESC;FMTTYPE=text/html:<span style="color:rgb(0\, 0\, 0)\; font-family:arial\; font-size:14.66px">Children of all ages\, from toddlers to teens\, are invited to drop in between 3:30 and 5:30pm and build with Legos. Stay for ten minutes or the full two hours\, then display your creations in the library until the next club meeting. The library supplies the Legos\, you supply the imagination!</span>
LOCATION:Matheson Memorial Library
UID:e.2059.6750
SEQUENCE:3
DTSTAMP:20260422T233202Z
URL:https://business.elkhornchamber.com/events/details/lego-club-09-26-2017-6750
END:VEVENT

END:VCALENDAR
