BEGIN:VCALENDAR
VERSION:2.0
PRODID:-//ChamberMaster//Event Calendar 2.0//EN
METHOD:PUBLISH
X-PUBLISHED-TTL:P3D
REFRESH-INTERVAL:P3D
CALSCALE:GREGORIAN
BEGIN:VEVENT
DTSTART:20180424T203000Z
DTEND:20180424T223000Z
X-MICROSOFT-CDO-ALLDAYEVENT:FALSE
SUMMARY:Lego Club
DESCRIPTION:Children of all ages\, from toddlers to teens\, are invited to drop in between 3:30 and 5:30 PM and build with Legos. Stay for ten minutes or the full two hours\, then display your creations in the library until the next club meeting. The library supplies the Legos\, you supply the imagination!
X-ALT-DESC;FMTTYPE=text/html:<p><span style="font-family:arial\; font-size:14.6667px">Children of all ages\, from toddlers to teens\, are invited to drop in between 3:30 and 5:30 PM and build with Legos.&nbsp\;</span><span style="font-family:arial\; font-size:14.6667px">Stay for ten minutes or the full two hours\, then display your creations in the library until the next club meeting.&nbsp\;</span><span style="font-family:arial\; font-size:14.6667px">The library supplies the Legos\, you supply the imagination!</span></p>\n
LOCATION:Matheson Memorial Library
UID:e.2059.7597
SEQUENCE:3
DTSTAMP:20260422T102640Z
URL:https://business.elkhornchamber.com/events/details/lego-club-04-24-2018-7597
END:VEVENT

END:VCALENDAR
