BEGIN:VCALENDAR
VERSION:2.0
PRODID:-//ChamberMaster//Event Calendar 2.0//EN
METHOD:PUBLISH
X-PUBLISHED-TTL:P3D
REFRESH-INTERVAL:P3D
CALSCALE:GREGORIAN
BEGIN:VEVENT
DTSTART:20180119T213000Z
DTEND:20180119T230000Z
X-MICROSOFT-CDO-ALLDAYEVENT:FALSE
SUMMARY:Learning the Basics of Medicare
DESCRIPTION:Representatives from United Healthcare will be at the library to explain Medicare and retirement income. This free program is meant to give a general overview of Medicare.
X-ALT-DESC;FMTTYPE=text/html:<span style="color:rgb(0\, 0\, 0)\; font-family:arial\; font-size:12px">Representatives from United Healthcare will be at the library to explain Medicare and retirement income. This free program is meant to give a general overview of Medicare.</span>
LOCATION:Matheson Memorial Library
UID:e.2059.7401
SEQUENCE:3
DTSTAMP:20260422T160842Z
URL:https://business.elkhornchamber.com/events/details/learning-the-basics-of-medicare-7401
END:VEVENT

END:VCALENDAR
