BEGIN:VCALENDAR
VERSION:2.0
PRODID:-//ChamberMaster//Event Calendar 2.0//EN
METHOD:PUBLISH
X-PUBLISHED-TTL:P3D
REFRESH-INTERVAL:P3D
CALSCALE:GREGORIAN
BEGIN:VEVENT
DTSTART:20190201T190000Z
DTEND:20190201T210000Z
X-MICROSOFT-CDO-ALLDAYEVENT:FALSE
SUMMARY:Learn to Love Your Heart
DESCRIPTION:Please join us for our special heart-focused event to learn more anout heart disease- Prevention\, Diagnosis\, Treatment and Beyond. Featured speakers are Sam Gnatzig\,BS\,MS\; Robin Rausch and Kenneth Bortin\,MD\,FACC. Please reserve your seat by January 30th\, by calling (888)39-MERCY.
X-ALT-DESC;FMTTYPE=text/html:Please join us for our special heart-focused event to learn more anout heart disease- Prevention\, Diagnosis\, Treatment and Beyond. Featured speakers are Sam Gnatzig\,BS\,MS\; Robin Rausch and Kenneth Bortin\,MD\,FACC. Please reserve your seat by January 30th\, by calling (888)39-MERCY.
LOCATION:Mercyhealth Hospital and Medical Center-Walworth Lower-level Conference rooms N2950 State Rd. 67\, Hwys 50 and 67 Lake Geneva\, WI 53147
UID:e.2059.10315
SEQUENCE:3
DTSTAMP:20260421T185454Z
URL:https://business.elkhornchamber.com/events/details/learn-to-love-your-heart-10315
END:VEVENT

END:VCALENDAR
