BEGIN:VCALENDAR
VERSION:2.0
PRODID:-//ChamberMaster//Event Calendar 2.0//EN
METHOD:PUBLISH
X-PUBLISHED-TTL:P3D
REFRESH-INTERVAL:P3D
CALSCALE:GREGORIAN
BEGIN:VEVENT
DTSTART:20190108T010000Z
DTEND:20190108T010000Z
X-MICROSOFT-CDO-ALLDAYEVENT:FALSE
SUMMARY:Learn to Deal with a Violent Encounter
DESCRIPTION:Learn how to deal with a violent encounter!\n\nSugar Creek Lutheran Church is offering a 3 self-defense awareness workshops available to anyone. Each workshop is different and to be held at Sugar Creek Lutheran Church. Law enforcement officer for Walworth County\, John Czerwinski and fellow officers will be conducting the workshops. \n\nRegister at check-in or online: http://goo.gl/forms/osrqx4tW70feuflZ2
X-ALT-DESC;FMTTYPE=text/html:<span style="background-attachment: scroll\; background-clip: border-box\; background-color: rgb(255\, 255\, 255)\; background-image: none\; background-origin: padding-box\; background-position-x: 0%\; background-position-y: 0%\; background-repeat: repeat\; background-size: auto\; color: rgb(51\, 51\, 51)\; font-family: &amp\;quot\;Arial&amp\;quot\;\,sans-serif\; font-size: 13.33px\; font-style: normal\; font-variant: normal\; font-weight: 400\; letter-spacing: normal\; line-height: 14.66px\; margin-bottom: 0px\; margin-left: 0px\; margin-right: 0px\; margin-top: 0px\; orphans: 2\; text-align: left\; text-decoration: none\; text-indent: 0px\; text-transform: none\; -webkit-text-stroke-width: 0px\; white-space: normal\; word-spacing: 0px\;">Learn how to deal with a violent encounter!</span><br style="background-color: transparent\; color: rgb(51\, 51\, 51)\; cursor: text\; font-family: sans-serif\,Arial\,Verdana\,&amp\;quot\;Trebuchet MS&amp\;quot\;\; font-size: 13px\; font-style: normal\; font-variant: normal\; font-weight: 400\; letter-spacing: normal\; orphans: 2\; text-align: left\; text-decoration: none\; text-indent: 0px\; text-transform: none\; -webkit-text-stroke-width: 0px\; white-space: normal\; word-spacing: 0px\;" />\n<span style="background-color: transparent\; color: rgb(51\, 51\, 51)\; font-family: &amp\;quot\;Arial&amp\;quot\;\,sans-serif\; font-size: 13.33px\; font-style: normal\; font-variant: normal\; font-weight: 400\; letter-spacing: normal\; line-height: 14.66px\; margin-bottom: 0px\; margin-left: 0px\; margin-right: 0px\; margin-top: 0px\; orphans: 2\; text-align: left\; text-decoration: none\; text-indent: 0px\; text-transform: none\; -webkit-text-stroke-width: 0px\; white-space: normal\; word-spacing: 0px\;"><span style="background-attachment: scroll\; background-clip: border-box\; background-color: rgb(255\, 255\, 255)\; background-image: none\; background-origin: padding-box\; background-position-x: 0%\; background-position-y: 0%\; background-repeat: repeat\; background-size: auto\; margin-bottom: 0px\; margin-left: 0px\; margin-right: 0px\; margin-top: 0px\;"><span style="cursor: text\; float: none\; margin-bottom: 0px\; margin-left: 0px\; margin-right: 0px\; margin-top: 0px\; orphans: 2\; -webkit-text-stroke-width: 0px\; word-spacing: 0px\;">Sugar Creek Lutheran Church is offering a 3 self-defense awareness workshops available to anyone. Each workshop is different and to be held at Sugar Creek Lutheran Church. Law enforcement officer for Walworth County\, John Czerwinski and fellow officers will be conducting the workshops.&nbsp\;</span></span><br style="cursor: text\; -webkit-text-stroke-width: 0px\; word-spacing: 0px\;" />\n<span style="background-attachment: scroll\; background-clip: border-box\; background-color: rgb(255\, 255\, 255)\; background-image: none\; background-origin: padding-box\; background-position-x: 0%\; background-position-y: 0%\; background-repeat: repeat\; background-size: auto\; margin-bottom: 0px\; margin-left: 0px\; margin-right: 0px\; margin-top: 0px\;"><span style="cursor: text\; float: none\; margin-bottom: 0px\; margin-left: 0px\; margin-right: 0px\; margin-top: 0px\; orphans: 2\; -webkit-text-stroke-width: 0px\; word-spacing: 0px\;">Register at check-in or online: <a href="http://goo.gl/forms/osrqx4tW70feuflZ2" style="color: rgb(7\, 130\, 193)\;"><font color="#0563c1" style="color: rgb(5\, 99\, 193)\;">http://goo.gl/forms/osrqx4tW70feuflZ2</font></a></span></span></span>
LOCATION:Sugar Creek Lutheran Church N5690 Cobblestone Rd.\, Elkhorn\, WI
UID:e.2059.9524
SEQUENCE:3
DTSTAMP:20260421T190459Z
URL:https://business.elkhornchamber.com/events/details/learn-to-deal-with-a-violent-encounter-9524
END:VEVENT

END:VCALENDAR
