BEGIN:VCALENDAR
VERSION:2.0
PRODID:-//ChamberMaster//Event Calendar 2.0//EN
METHOD:PUBLISH
X-PUBLISHED-TTL:P3D
REFRESH-INTERVAL:P3D
CALSCALE:GREGORIAN
BEGIN:VEVENT
DTSTART:20181106T010000Z
DTEND:20181106T010000Z
X-MICROSOFT-CDO-ALLDAYEVENT:FALSE
SUMMARY:Learn to Deal with a Violent Encounter
DESCRIPTION:Learn how to deal with a violent encounter!\n\nSugar Creek Lutheran Church is offering a 3 self-defense awareness workshops available to anyone. Each workshop is different and to be held at Sugar Creek Lutheran Church. Law enforcement officer for Walworth County\, John Czerwinski and fellow officers will be conducting the workshops. \n\nRegister at check-in or online: http://goo.gl/forms/osrqx4tW70feuflZ2
X-ALT-DESC;FMTTYPE=text/html:<p style="margin: 0px 0px 10.66px\;"><span style="background: white\; margin: 0px\; color: rgb(51\, 51\, 51)\; line-height: 107%\; font-family: &quot\;Arial&quot\;\,sans-serif\; font-size: 10pt\;">Learn how to deal with a violent encounter!</span><br style="Trebuchet MS&quot\;&#10\;orphans: 2\;-webkit-text-stroke-width: 0px\;cursor:text\;word-spacing:0px" />\n<span style="margin: 0px\; color: rgb(51\, 51\, 51)\; line-height: 107%\; font-family: &quot\;Arial&quot\;\,sans-serif\; font-size: 10pt\;"><span style="background: white\; margin: 0px\;"><span style="margin: 0px\; word-spacing: 0px\; cursor: text\; orphans: 2\; float: none\; -webkit-text-stroke-width: 0px\;">Sugar Creek Lutheran Church is offering a 3 self-defense awareness workshops available to anyone. Each workshop is different and to be held at Sugar Creek Lutheran Church. Law enforcement officer for Walworth County\, John Czerwinski and fellow officers will be conducting the workshops.&nbsp\;</span></span><br style="Trebuchet MS&quot\;&#10\;orphans: 2\;-webkit-text-stroke-width: 0px\;cursor:text\;word-spacing:0px" />\n<span style="background: white\; margin: 0px\;"><span style="margin: 0px\; word-spacing: 0px\; cursor: text\; orphans: 2\; float: none\; -webkit-text-stroke-width: 0px\;">Register at check-in or online: <a href="http://goo.gl/forms/osrqx4tW70feuflZ2"><font color="#0563c1">http://goo.gl/forms/osrqx4tW70feuflZ2</font></a></span></span></span></p>\n
LOCATION:Sugar Creek Lutheran Church N5690 Cobblestone Rd.\, Elkhorn\, WI
UID:e.2059.9523
SEQUENCE:3
DTSTAMP:20260421T223642Z
URL:https://business.elkhornchamber.com/events/details/learn-to-deal-with-a-violent-encounter-9523
END:VEVENT

END:VCALENDAR
