BEGIN:VCALENDAR
VERSION:2.0
PRODID:-//ChamberMaster//Event Calendar 2.0//EN
METHOD:PUBLISH
X-PUBLISHED-TTL:P3D
REFRESH-INTERVAL:P3D
CALSCALE:GREGORIAN
BEGIN:VEVENT
DTSTART:20181016T000000Z
DTEND:20181016T000000Z
X-MICROSOFT-CDO-ALLDAYEVENT:FALSE
SUMMARY:Learn to Deal with a Violent Encounter
DESCRIPTION:Learn how to deal with a violent encounter!\n\nSugar Creek Lutheran Church is offering a 3 self-defense awareness workshops available to anyone. Each workshop is different and to be held at Sugar Creek Lutheran Church. Law enforcement officer for Walworth County\, John Czerwinski and fellow officers will be conducting the workshops. \n\nRegister at check-in or online: https://goo.gl/forms/0SRQX4tW7OfeufIZ2
X-ALT-DESC;FMTTYPE=text/html:Learn how to deal with a violent encounter!<br />\nSugar Creek Lutheran Church is offering a 3 self-defense awareness workshops available to anyone. Each workshop is different and to be held at Sugar Creek Lutheran Church. Law enforcement officer for Walworth County\, John Czerwinski and fellow officers will be conducting the workshops.&nbsp\;<br />\nRegister at check-in or online:&nbsp\;<a href="https://goo.gl/forms/0SRQX4tW7OfeufIZ2" style="color: rgb(0\, 102\, 204)\; text-decoration: none\; outline: none\; font-family: Tahoma\, Geneva\, sans-serif\; font-size: 12.09px\; font-style: normal\; font-variant-ligatures: normal\; font-variant-caps: normal\; font-weight: 400\; letter-spacing: normal\; orphans: 2\; text-align: start\; text-indent: 0px\; text-transform: none\; white-space: normal\; widows: 2\; word-spacing: 0px\; -webkit-text-stroke-width: 0px\; background-color: rgb(255\, 255\, 255)\;" target="_blank" title="This external link will open in a new window">https://goo.gl/forms/0SRQX4tW7OfeufIZ2</a><span style="color: rgb(0\, 0\, 0)\; font-family: Tahoma\, Geneva\, sans-serif\; font-size: 12.09px\; font-style: normal\; font-variant-ligatures: normal\; font-variant-caps: normal\; font-weight: 400\; letter-spacing: normal\; orphans: 2\; text-align: start\; text-indent: 0px\; text-transform: none\; white-space: normal\; widows: 2\; word-spacing: 0px\; -webkit-text-stroke-width: 0px\; background-color: rgb(255\, 255\, 255)\; text-decoration-style: initial\; text-decoration-color: initial\; display: inline !important\; float: none\;">&nbsp\;</span>&nbsp\;<br />\n&nbsp\;
LOCATION:Sugar Creek Lutheran Church N5690 Cobblestone Rd.\, Elkhorn\, WI
UID:e.2059.9522
SEQUENCE:3
DTSTAMP:20260422T020914Z
URL:https://business.elkhornchamber.com/events/details/learn-to-deal-with-a-violent-encounter-9522
END:VEVENT

END:VCALENDAR
