BEGIN:VCALENDAR
VERSION:2.0
PRODID:-//ChamberMaster//Event Calendar 2.0//EN
METHOD:PUBLISH
X-PUBLISHED-TTL:P3D
REFRESH-INTERVAL:P3D
CALSCALE:GREGORIAN
BEGIN:VEVENT
DTSTART:20180901T230000Z
DTEND:20180901T230000Z
X-MICROSOFT-CDO-ALLDAYEVENT:FALSE
SUMMARY:LAS Ski Show
DESCRIPTION:Ski show at Whitewater Lake
X-ALT-DESC;FMTTYPE=text/html:Ski show at Whitewater Lake
LOCATION:Whitewater Lake
UID:e.2059.9173
SEQUENCE:3
DTSTAMP:20260422T020419Z
URL:https://business.elkhornchamber.com/events/details/las-ski-show-9173
END:VEVENT

END:VCALENDAR
