BEGIN:VCALENDAR
VERSION:2.0
PRODID:-//ChamberMaster//Event Calendar 2.0//EN
METHOD:PUBLISH
X-PUBLISHED-TTL:P3D
REFRESH-INTERVAL:P3D
CALSCALE:GREGORIAN
BEGIN:VEVENT
DTSTART:20180809T170000Z
DTEND:20180810T010000Z
X-MICROSOFT-CDO-ALLDAYEVENT:FALSE
SUMMARY:LARA Golf Outing - Evergreen Country Club
DESCRIPTION:LARA Golf Outing - Thursday 8/9/2018 - Evergreen Country Club\n\n12:00 Noon   Registration/Lunch Cook-Out\n\nFeaturing the new RPAC Putting Challenge! with First Drink Sponsored by Keefe Real Estate\n\n1:00   Shotgun Start (18 Holes)\n\n\n\n4:30 - Happy Hour\n\nBeer Sponsor: Knight Barry TItle Company\n\nGolf Carts Sponsored by @ Properties\n\nPrices through 7/31/2018. ADD $10 to each effective 8/1/2018\n\nFoursome- Includes Cookout Lunch\, Golf\, Cart\, Steak Dinner\n\nLARA Member   18 Holes @ $400\n\nNon Member   18 Holes @ $480\n\n\n\nIndividual Golfer - Includes Cookout Lunch\, Golf\, Cart\, Steak Dinner\n\nLARA Member   18 Holes @ $100\n\nNon Member   18 Holes @ $120\n\n\n\nBanquet Only: Non-golfers are encouraged to join us for at 4:30 for social hour\, dinner\, and fun! @$35 each
X-ALT-DESC;FMTTYPE=text/html:<span style="font-weight:700\;padding-top:0px\;">LARA Golf Outing - Thursday 8/9/2018 - Evergreen Country Club</span><br />\n<span style="font-weight:700\;padding-top:0px\;">12:00 Noon &ndash\; Registration/Lunch Cook-Out</span><br style="padding-top:0px\;" />\nFeaturing the new RPAC Putting Challenge! with&nbsp\;<span style="font-weight:700\;">First Drink Sponsored by Keefe Real Estate</span><br />\n<span style="font-weight:700\;">1:00 &ndash\; Shotgun Start (18 Holes)</span><br style="padding-top:0px\;" />\n<br />\n<span style="font-weight:700\;padding-top:0px\;">4:30 - Happy Hour</span><br />\n<span style="font-weight:700\;padding-top:0px\;">Beer Sponsor: Knight Barry TItle Company</span><br />\n<span style="font-weight:700\;padding-top:0px\;">Golf Carts Sponsored by @ Properties</span><br />\n<span style="padding-top:0px\;">Prices through 7/31/2018.&nbsp\;<span style="font-weight:700\;padding-top:0px\;">ADD $10 to each effective 8/1/2018</span></span><br />\n<span style="font-weight:700\;padding-top:0px\;">Foursome-&nbsp\;</span><em>Includes Cookout Lunch\, Golf\, Cart\, Steak Dinner</em><br style="padding-top:0px\;" />\nLARA Member &ndash\; 18 Holes @ $400<br />\nNon Member &ndash\; 18 Holes @ $480<br />\n<br />\n<span style="font-weight:700\;padding-top:0px\;">Individual Golfer</span>&nbsp\;-&nbsp\;<em>Includes Cookout Lunch\, Golf\, Cart\, Steak Dinner</em><br />\nLARA Member &ndash\; 18 Holes @ $100<br style="padding-top:0px\;" />\nNon Member &ndash\; 18 Holes @ $120<br />\n<br />\n<span style="font-weight:700\;padding-top:0px\;">Banquet Only:</span>&nbsp\;<em>Non-golfers are encouraged to join us for at 4:30 for social hour\, dinner\, and fun! @</em>$35 each
LOCATION:Evergreen Country Club N6246 U.S. 12 Elkhorn\, WI 53121
UID:e.2059.9261
SEQUENCE:3
DTSTAMP:20260422T054641Z
URL:https://business.elkhornchamber.com/events/details/lara-golf-outing-evergreen-country-club-9261
END:VEVENT

END:VCALENDAR
