BEGIN:VCALENDAR
VERSION:2.0
PRODID:-//ChamberMaster//Event Calendar 2.0//EN
METHOD:PUBLISH
X-PUBLISHED-TTL:P3D
REFRESH-INTERVAL:P3D
CALSCALE:GREGORIAN
BEGIN:VEVENT
DTSTART:20150626T140000Z
DTEND:20150626T190000Z
X-MICROSOFT-CDO-ALLDAYEVENT:FALSE
SUMMARY:Lakewood Invitational
DESCRIPTION:A Stunning Oasis Beautiful green fairways and luscious leafy trees line this magnificent 71.3 USGA ranked 18-hole golf course. This members-only 120-acre course includes 42 bunkers and several water hazards with three sets of tees for different skill levels. Aim for a par 72 as you enjoy leisurely play along the perfectly manicured and immaculately maintained land. A Benefit to support Business development across the grater Lake Geneva area. 18-hole invititaional tournament limited to the first 50 players shot gun statr play your own ball reservations will fill quickly Drawing Rounds of golf for 4 Golf accessories Area attraction packages
X-ALT-DESC;FMTTYPE=text/html:A Stunning Oasis Beautiful green fairways and luscious leafy trees line this magnificent 71.3 USGA ranked 18-hole golf course. This members-only 120-acre course includes 42 bunkers and several water hazards with three sets of tees for different skill levels. Aim for a par 72 as you enjoy leisurely play along the perfectly manicured and immaculately maintained land. A Benefit to support Business development across the grater Lake Geneva area. 18-hole invititaional tournament limited to the first 50 players shot gun statr play your own ball reservations will fill quickly Drawing Rounds of golf for 4 Golf accessories Area attraction packages
LOCATION:Lakewood Estates Golf Club W1773 Bloomfield Rd\, Lake Geneva
UID:e.2059.1586
SEQUENCE:3
DTSTAMP:20260424T192537Z
URL:https://business.elkhornchamber.com/events/details/lakewood-invitational-06-26-2015-1586
END:VEVENT

END:VCALENDAR
