BEGIN:VCALENDAR
VERSION:2.0
PRODID:-//ChamberMaster//Event Calendar 2.0//EN
METHOD:PUBLISH
X-PUBLISHED-TTL:P3D
REFRESH-INTERVAL:P3D
CALSCALE:GREGORIAN
BEGIN:VEVENT
DTSTART:20170708T223000Z
DTEND:20170709T040000Z
X-MICROSOFT-CDO-ALLDAYEVENT:FALSE
SUMMARY:Lakeside BBQ Car Show Warm Up at Lake Lawn Resort
DESCRIPTION:Join us at the Lakeside BBQ and Car Show Warm Up!\n\n\n\nGet a sneak peek at some beautiful show cars and special feature cars and get acquainted with other car enthusiasts!\n\n\n\nCash bar opens at 6pm\, and the dinner buffet begins at 7pm. Enjoy a BBQ Buffet along the lake with live musical entertainment and a bonfire.\n\n\n\nCOOKOUT MENU:\n\nAll American Potato Salad\n\nSummer Bowtie Pasta\n\nSummer Fruit Salad\n\nButtered Corn on the Cob\n\nCountry Baked Beans ...\n\nBratwurst & Sauerkraut\n\nHamburgers\n\nBBQ Chicken\n\nAssorted Cookies\n\nPink Lemonade & Coffee Service\n\n\n\nTickets for two are included in the Car Show Resort Package. This party is open to the public. Tickets are sold for $25 per person\, which includes the party\, entertainment and BBQ buffet.\n\n\n\nSave $5 off your ticket price if you purchase your ticket at the front desk or by calling 262.728.7950 by Wednesday\, July 5.\n\n\n\nThis is the official kickoff party for The Cars Time Forgot Car Show. See details here: https://www.lakelawnresort.com/events/cars-time-forgot-car-show/ and www.carstimeforgot.com\n\n\n\nOvernight Package Available. Click Here for Details: https://www.lakelawnresort.com/packages/cars-time-forgot-car-show-package/
X-ALT-DESC;FMTTYPE=text/html:<div class="text_exposed_root text_exposed" id="id_595afccd089862168039176"><span class="_4n-j _fbReactionComponent__eventDetailsContentTags fsl" data-testid="event-permalink-details">Join us at the Lakeside BBQ and Car Show Warm Up!<br />\n<br />\nGet a sneak peek at some beautiful show cars and special feature cars and get acquainted with other car enthusiasts!<br />\n<br />\nCash bar opens at 6pm\, and the dinner buffet begins at 7pm. Enjoy a BBQ Buffet along the lake with live musical entertainment and a bonfire.<br />\n<br />\nCOOKOUT MENU:<br />\nAll American Potato Salad<br />\nSummer Bowtie Pasta<br />\nSummer Fruit Salad<br />\nButtered Corn on the Cob<br />\nCountry Baked Beans <span class="text_exposed_hide">...</span><br />\n<span class="text_exposed_show">Bratwurst &amp\; Sauerkraut<br />\nHamburgers<br />\nBBQ Chicken<br />\nAssorted Cookies<br />\nPink Lemonade &amp\; Coffee Service<br />\n<br />\nTickets for two are included in the Car Show Resort Package. This party is open to the public. Tickets are sold for $25 per person\, which includes the party\, entertainment and BBQ buffet.<br />\n<br />\nSave $5 off your ticket price if you purchase your ticket at the front desk or by calling 262.728.7950 by Wednesday\, July 5.<br />\n<br />\nThis is the official kickoff party for The Cars Time Forgot Car Show. See details here: <a href="https://l.facebook.com/l.php?u=https%3A%2F%2Fwww.lakelawnresort.com%2Fevents%2Fcars-time-forgot-car-show%2F&amp\;h=ATPlapjG6X81mVYnxEpBBszJtdQ31H5u4ltVk20krOX4CY4ZxUr_LBOKyaBW1Q-eyIUW5y0vH4kbRe2QEUsS5tbFDP-kYx4W_wQR0Q3rNBwoZ02mS7uRNnj4FoFFnPZ3ZhtjfKAp&amp\;enc=AZOFSYwzaFA2Tm8pw-Xf9sjs-xih6pKP6yR2O_qcR0dVF7z0Hk773V5ReOM-C6Z2s0Q&amp\;s=1" rel="nofollow nofollow" target="_blank"><font color="#0066cc"><span>https://</span><wbr /><span>www.lakelawnresort.com/</span><wbr /><span>events/</span><wbr /></font><font color="#0066cc">cars-time-forgot-car-show/</font></a> and <a href="https://l.facebook.com/l.php?u=http%3A%2F%2Fwww.carstimeforgot.com%2F&amp\;h=ATNa5_DprCedl3zuG1jQnkQBIND3gF5jqdpx9zdX-PbZdDQ_fKcBOwXnlsTRqcgoQmTspkuF4IRHA9SjqKzz5oBKfQlBkiY7O2b8KhlPw0lMyxizY06SAV4_S-glqipdb5C0fRc3&amp\;enc=AZMwDSJKenCgSFZb5OqDP36bQ0NqSMm3UGQRN20R-RlQVwb_LUJZtspcSaRr_RtUXzs&amp\;s=1" rel="nofollow nofollow" target="_blank"><font color="#0066cc">www.carstimeforgot.com</font></a><br />\n<br />\nOvernight Package Available. Click Here for Details: <a href="https://l.facebook.com/l.php?u=https%3A%2F%2Fwww.lakelawnresort.com%2Fpackages%2Fcars-time-forgot-car-show-package%2F&amp\;h=ATNo1ItPZs0KR2x4vIPxTx1nDH-A973pOwq2JAwURIO8mctJWwJWoWB1Od-6ZCYfmNudjFhlwQ5AiVX5Q1rFkjfeWZvyVXqM4IwNeJav3qAhXVZCX2QFbxHLp1Dqp58anBRFWl2u&amp\;enc=AZPk7PJ_Gnj2JUPSQokUBbCpbX_WNBaJzyWo6ZhCgGW8XNydltVP-z5qxyRPF8-tKl0&amp\;s=1" rel="nofollow nofollow" target="_blank"><font color="#0066cc"><span>https://</span><wbr /><span>www.lakelawnresort.com/</span><wbr /><span>packages/</span><wbr /><span>cars-time-forgot-car-show-p</span><wbr /></font><font color="#0066cc">ackage/</font></a></span></span></div>\n
LOCATION:Show Map Hide Map Lake Lawn Resort 2400 E Geneva St\, Delavan\, Wisconsin 53115
UID:e.2059.5488
SEQUENCE:3
DTSTAMP:20260423T011347Z
URL:https://business.elkhornchamber.com/events/details/lakeside-bbq-car-show-warm-up-5488
END:VEVENT

END:VCALENDAR
