BEGIN:VCALENDAR
VERSION:2.0
PRODID:-//ChamberMaster//Event Calendar 2.0//EN
METHOD:PUBLISH
X-PUBLISHED-TTL:P3D
REFRESH-INTERVAL:P3D
CALSCALE:GREGORIAN
BEGIN:VEVENT
DTSTART:20150828T220000Z
DTEND:20150829T010000Z
X-MICROSOFT-CDO-ALLDAYEVENT:FALSE
SUMMARY:Lakeland's Little Learners' 30th Anniversary Celebration
DESCRIPTION:Food\, drinks\, music and games at an Open House at Lakeland's Little Learners to celebrate 30 years of serving the community.
X-ALT-DESC;FMTTYPE=text/html:Food\, drinks\, music and games at an Open House at Lakeland&#39\;s Little Learners to celebrate 30 years of serving the community.
LOCATION:240 E Commerce Court Elkhorn\, WI 53121
UID:e.2059.1636
SEQUENCE:3
DTSTAMP:20260424T161542Z
URL:https://business.elkhornchamber.com/events/details/lakeland-s-little-learners-30th-anniversary-celebration-08-28-2015-1636
END:VEVENT

END:VCALENDAR
