BEGIN:VCALENDAR
VERSION:2.0
PRODID:-//ChamberMaster//Event Calendar 2.0//EN
METHOD:PUBLISH
X-PUBLISHED-TTL:P3D
REFRESH-INTERVAL:P3D
CALSCALE:GREGORIAN
BEGIN:VEVENT
DTSTART:20140927T140000Z
DTEND:20140927T170000Z
X-MICROSOFT-CDO-ALLDAYEVENT:FALSE
SUMMARY:Lakeland's Little Learner Colorful Run
DESCRIPTION:Run\, walk or stroll at Babe Mann Park in Elkhorn and help support a local non-profit and the kids in your community by participating in this fundraiser. LLL Colorful Run is for everyone. It doesn?t matter if you?re a triathlete or a recovering couch potato? 7 or 70? a butcher\, a baker\, or a candlestick maker. We are celebrating YOU just the way you are! You are your own canvas. Wear what you want. Light colors (white) work best to show off the color. Wear a costume - tutu. We recommend sunglasses or goggles for the little ones. Early registration deadline is September 12th. Registration comes with a sport headband\, tattoo\, & one color packet. Child care will be provided for all early registrants in need.
X-ALT-DESC;FMTTYPE=text/html:Run\, walk or stroll at Babe Mann Park in Elkhorn and help support a local non-profit and the kids in your community by participating in this fundraiser. LLL Colorful Run is for everyone. It doesn?t matter if you?re a triathlete or a recovering couch potato? 7 or 70? a butcher\, a baker\, or a candlestick maker. We are celebrating YOU just the way you are! You are your own canvas. Wear what you want. Light colors (white) work best to show off the color. Wear a costume - tutu. We recommend sunglasses or goggles for the little ones. Early registration deadline is September 12th. Registration comes with a sport headband\, tattoo\, &amp\; one color packet. Child care will be provided for all early registrants in need.
LOCATION:Babe Mann Park 960 Proctor Dr.\, Elkhorn
UID:e.2059.290
SEQUENCE:3
DTSTAMP:20260425T122142Z
URL:https://business.elkhornchamber.com/events/details/lakeland-s-little-learner-colorful-run-09-27-2014-290
END:VEVENT

END:VCALENDAR
