BEGIN:VCALENDAR
VERSION:2.0
PRODID:-//ChamberMaster//Event Calendar 2.0//EN
METHOD:PUBLISH
X-PUBLISHED-TTL:P3D
REFRESH-INTERVAL:P3D
CALSCALE:GREGORIAN
BEGIN:VEVENT
DTSTART:20160308T010000Z
DTEND:20160309T010000Z
X-MICROSOFT-CDO-ALLDAYEVENT:FALSE
SUMMARY:Lakeland Players Ltd. Hosts Auditions for 42nd Street
DESCRIPTION:Lakeland Players Ltd. has announced they will be hosting auditions for the hit Broadway musical ~ 42nd Street~\n\nDirected by David Whitney.\n\nAdult Men and Women needed\, ages 15 & over.\n\nCome prepared with a song to sing. Wear appropriate shoes for dance and be prepared to read cold from a script.
X-ALT-DESC;FMTTYPE=text/html:Lakeland Players Ltd. has announced they will be hosting auditions for the hit Broadway musical ~ 42nd Street~<br />\nDirected by David Whitney.<br />\nAdult Men and Women needed\, ages 15 &amp\; over.<br />\nCome prepared with a song to sing. Wear appropriate shoes for dance and be prepared to read cold from a script.
LOCATION:Walworth County Performing Arts Center 15 W. Walworth St. Elkhorn\, WI
UID:e.2059.1930
SEQUENCE:3
DTSTAMP:20260424T045712Z
URL:https://business.elkhornchamber.com/events/details/lakeland-players-ltd-hosts-auditions-for-42nd-street-03-07-2016-1930
END:VEVENT

END:VCALENDAR
