BEGIN:VCALENDAR
VERSION:2.0
PRODID:-//ChamberMaster//Event Calendar 2.0//EN
METHOD:PUBLISH
X-PUBLISHED-TTL:P3D
REFRESH-INTERVAL:P3D
CALSCALE:GREGORIAN
BEGIN:VEVENT
DTSTART:20160306T200000Z
DTEND:20160306T200000Z
X-MICROSOFT-CDO-ALLDAYEVENT:FALSE
SUMMARY:Lakeland Players Ltd. Hosts Auditions for 42nd Street
DESCRIPTION:Lakeland Players Ltd. announces auditions to be held for their upcoming broadway hit of 42nd Street. Directed by David Whitney with performance dates falling on May 13-15th & 20-22nd.\n\nAdult Men and Women needed\, ages 15 and over. Come prepared with a song to sing. Wear appropriate shoes for dance. Be prepared to read cold from the script.
X-ALT-DESC;FMTTYPE=text/html:Lakeland Players Ltd. announces auditions to be held for their upcoming broadway hit of 42nd Street. Directed by David Whitney with performance dates falling on May 13-15th &amp\; 20-22nd.<br />\nAdult Men and Women needed\, ages 15 and over. Come prepared with a song to sing. Wear appropriate shoes for dance. Be prepared to read cold from the script.&nbsp\;&nbsp\;&nbsp\;&nbsp\;
LOCATION:Walworth County Performing Arts Center 15 W. Walworth St Elkhorn\, Wi
UID:e.2059.1938
SEQUENCE:3
DTSTAMP:20260424T045712Z
URL:https://business.elkhornchamber.com/events/details/lakeland-players-ltd-hosts-auditions-for-42nd-street-03-06-2016-1938
END:VEVENT

END:VCALENDAR
