BEGIN:VCALENDAR
VERSION:2.0
PRODID:-//ChamberMaster//Event Calendar 2.0//EN
METHOD:PUBLISH
X-PUBLISHED-TTL:P3D
REFRESH-INTERVAL:P3D
CALSCALE:GREGORIAN
BEGIN:VEVENT
DTSTART:20170916T000000Z
DTEND:20170916T000000Z
X-MICROSOFT-CDO-ALLDAYEVENT:FALSE
SUMMARY:Lakeland Players Ltd. Auditions
DESCRIPTION:Lakeland Players Ltd. annoucnes auditions for the Children's Holiday Musical\n\n"The Grunch *A New Children's Musical" Directed by: Jessica Shaffer.\n\nWhen:\n\nFriday\, September 15th at 7:00pm\n\nSaturday\, September 16th at 2:00pm\n\n\n\nWhere:\n\nWalworth County Performing Arts Center\n\n15 W. Walworth Street\n\nElkhorn\, Wi\n\n What:\n\nCome prepared with a Disney song to sing. Bring your own accompaniment (no accompanist available) and wear appropriate shoes for simple dance moves. No flip-flops.\n\n\n\nWho: Children ages 8-16
X-ALT-DESC;FMTTYPE=text/html:Lakeland Players Ltd. annoucnes auditions for the Children&#39\;s Holiday Musical<br />\n&quot\;The Grunch *A New Children&#39\;s Musical&quot\; Directed by: Jessica Shaffer.<br />\nWhen:<br />\nFriday\, September 15th at 7:00pm<br />\nSaturday\, September 16th at 2:00pm<br />\n<br />\nWhere:<br />\nWalworth County Performing Arts Center<br />\n15 W. Walworth Street<br />\nElkhorn\, Wi<br />\n&nbsp\;What:<br />\nCome prepared with a Disney song to sing. Bring your own accompaniment (no accompanist available) and wear appropriate shoes for simple dance moves. No flip-flops.<br />\n<br />\nWho: Children ages 8-16<br />\n&nbsp\;
LOCATION:Walworth County Performing Arts Center 15 W. Walworth Street Elkhorn\, Wi
UID:e.2059.6085
SEQUENCE:3
DTSTAMP:20260422T214405Z
URL:https://business.elkhornchamber.com/events/details/lakeland-players-ltd-auditions-6085
END:VEVENT

END:VCALENDAR
