BEGIN:VCALENDAR
VERSION:2.0
PRODID:-//ChamberMaster//Event Calendar 2.0//EN
METHOD:PUBLISH
X-PUBLISHED-TTL:P3D
REFRESH-INTERVAL:P3D
CALSCALE:GREGORIAN
BEGIN:VEVENT
DTSTART:20170103T130000Z
DTEND:20170104T130000Z
X-MICROSOFT-CDO-ALLDAYEVENT:FALSE
SUMMARY:Lakeland Players Ltd. Auditions
DESCRIPTION:Lakeland Players announces Auditions for their up-coming comedy "Plaza Suite' by Neil Simon. Auditions will be held on Jan. 3rd and 4th at 7am. at the old Sprague Theater downtown Elkhorn. Needed are Adult Men & Women 20 and older.\n\nPerformance dates are Feb. 17-19 and 24-26th
X-ALT-DESC;FMTTYPE=text/html:Lakeland Players announces Auditions for their up-coming comedy &quot\;Plaza Suite&#39\; by Neil Simon. Auditions will be held on Jan. 3rd and 4th at 7am. at the old Sprague Theater downtown Elkhorn. Needed are Adult Men &amp\; Women 20 and older.<br />\nPerformance dates are Feb. 17-19 and 24-26th<br />\n&nbsp\;
LOCATION:Sprague Theatre Downtown Elkhorn
UID:e.2059.4622
SEQUENCE:3
DTSTAMP:20260423T135425Z
URL:https://business.elkhornchamber.com/events/details/lakeland-players-ltd-auditions-4622
END:VEVENT

END:VCALENDAR
