BEGIN:VCALENDAR
VERSION:2.0
PRODID:-//ChamberMaster//Event Calendar 2.0//EN
METHOD:PUBLISH
X-PUBLISHED-TTL:P3D
REFRESH-INTERVAL:P3D
CALSCALE:GREGORIAN
BEGIN:VEVENT
DTSTART:20161018T000000Z
DTEND:20161019T000000Z
X-MICROSOFT-CDO-ALLDAYEVENT:FALSE
SUMMARY:Lakeland Players Ltd. Auditions
DESCRIPTION:Join the Lakeland Players Ltd. for their upcoming show for the children's holiday musical... Broadway Santa!\n\nDirected By: Amberleigh Aller\n\nBoys and girls ages 8-17 years old.\n\nCome prepared with a song to sing. Accompanist provided. Wear appropriate shoes for dance.
X-ALT-DESC;FMTTYPE=text/html:Join the Lakeland Players Ltd. for their upcoming show for the children&#39\;s holiday musical... Broadway Santa!<br />\nDirected By: Amberleigh Aller<br />\nBoys and girls ages 8-17 years old.<br />\nCome prepared with a song to sing. Accompanist provided. Wear appropriate shoes for dance.
LOCATION:Walworth County Performing Arts Center 15 W. Walworth st Elkhorn\, WI 53121
UID:e.2059.4541
SEQUENCE:3
DTSTAMP:20260423T185123Z
URL:https://business.elkhornchamber.com/events/details/lakeland-players-ltd-auditions-4541
END:VEVENT

END:VCALENDAR
