BEGIN:VCALENDAR
VERSION:2.0
PRODID:-//ChamberMaster//Event Calendar 2.0//EN
METHOD:PUBLISH
X-PUBLISHED-TTL:P3D
REFRESH-INTERVAL:P3D
CALSCALE:GREGORIAN
BEGIN:VEVENT
DTSTART:20160513T233000Z
DTEND:20160514T013000Z
X-MICROSOFT-CDO-ALLDAYEVENT:FALSE
SUMMARY:Lakeland Little Learners Fundraiser at Staller Estate Winery
DESCRIPTION:Join us for an evening of Families helping families. Lakeland's Little Learners is a nonprofit organization which relies on fees\, grant writing and fundraising to meet our budget. While exploring new fundraising options\, we recently discovered the Staller Estate Winery. You will receive two wine coupons with your entrance ticket to start your wine tasting experience.  For any bottles sold at the event LLL will receive 15% of the sale.\n\nIn addition to good food\, wine\, and relaxing with friends there will be a silent auction. There will be five themed baskets for you to select from. The auction will close at 8:15 pm and you do not ned to be present to win.
X-ALT-DESC;FMTTYPE=text/html:Join us for an evening of Families helping families. Lakeland&#39\;s Little Learners is a nonprofit organization which relies on fees\, grant writing and fundraising to meet our budget. While exploring new fundraising options\, we recently discovered the Staller Estate Winery. You will receive two wine coupons with your entrance ticket to start your wine tasting experience.&nbsp\; For any bottles sold at the event LLL will receive 15% of the sale.<br />\nIn addition to good food\, wine\, and relaxing with friends there will be a silent auction. There will be five themed baskets for you to select from. The auction will close at 8:15 pm and you do not ned to be present to win.
LOCATION:Staller Estate Winery W8896 County Road A\, Delavan\, WI
UID:e.2059.3452
SEQUENCE:3
DTSTAMP:20260424T012555Z
URL:https://business.elkhornchamber.com/events/details/lakeland-little-learners-fundraiser-at-staller-estate-winery-05-13-2016-3452
END:VEVENT

END:VCALENDAR
