BEGIN:VCALENDAR
VERSION:2.0
PRODID:-//ChamberMaster//Event Calendar 2.0//EN
METHOD:PUBLISH
X-PUBLISHED-TTL:P3D
REFRESH-INTERVAL:P3D
CALSCALE:GREGORIAN
BEGIN:VEVENT
DTSTART:20180922T150000Z
DTEND:20180922T190000Z
X-MICROSOFT-CDO-ALLDAYEVENT:FALSE
SUMMARY:Lakeland Bakery Open House
DESCRIPTION:Join the Lakeland Bakery staff for their annual Open House celebration on Saturday\, September 22nd. \n\nThere will be Raffles\, Prizes\, Entertainment\, Brats\, Hot Dogs & Hamburgers. Stop on down from 10am until 2pm that day!
X-ALT-DESC;FMTTYPE=text/html:Join the Lakeland Bakery staff for their annual Open House celebration on Saturday\, September 22nd.&nbsp\;<br />\nThere will be Raffles\, Prizes\, Entertainment\, Brats\, Hot Dogs &amp\; Hamburgers. Stop on down from 10am until 2pm that day!&nbsp\;
LOCATION:Lakeland Bakery 421 N Wisconsin St Elkhorn\, Wisconsin 53121
UID:e.2059.9519
SEQUENCE:3
DTSTAMP:20260422T015607Z
URL:https://business.elkhornchamber.com/events/details/lakeland-bakery-open-house-9519
END:VEVENT

END:VCALENDAR
