BEGIN:VCALENDAR
VERSION:2.0
PRODID:-//ChamberMaster//Event Calendar 2.0//EN
METHOD:PUBLISH
X-PUBLISHED-TTL:P3D
REFRESH-INTERVAL:P3D
CALSCALE:GREGORIAN
BEGIN:VEVENT
DTSTART:20160917T150000Z
DTEND:20160917T190000Z
X-MICROSOFT-CDO-ALLDAYEVENT:FALSE
SUMMARY:Lakeland Bakery Anniversary Open House
DESCRIPTION:Join us at Lakeland Bakery to celebrate their Anniversary Open House! Saturday\, September 17th from 10am until 2pm they will be hosting Raffles\, Entertainment\, Music\, Face Painting & a few Clowns may be walking around!\n\nThey will be serving up some hot dogs\, brats and hamburgers for your enjoyment as well!\n\nHope to see you there!
X-ALT-DESC;FMTTYPE=text/html:Join us at Lakeland Bakery to celebrate their Anniversary Open House! Saturday\, September 17th from 10am until 2pm they will be hosting Raffles\, Entertainment\, Music\, Face Painting &amp\; a few Clowns may be walking around!<br />\nThey will be serving up some hot dogs\, brats and hamburgers for your enjoyment as well!<br />\nHope to see you there!
LOCATION:Lakeland Bakery 421 N. Wisconsin Street Elkhorn\, Wi 53121
UID:e.2059.4528
SEQUENCE:3
DTSTAMP:20260423T191458Z
URL:https://business.elkhornchamber.com/events/details/lakeland-bakery-anniversary-open-house-4528
END:VEVENT

END:VCALENDAR
