BEGIN:VCALENDAR
VERSION:2.0
PRODID:-//ChamberMaster//Event Calendar 2.0//EN
METHOD:PUBLISH
X-PUBLISHED-TTL:P3D
REFRESH-INTERVAL:P3D
CALSCALE:GREGORIAN
BEGIN:VEVENT
DTSTART:20150919T150000Z
DTEND:20150919T190000Z
X-MICROSOFT-CDO-ALLDAYEVENT:FALSE
SUMMARY:Lakeland Bakery Anniversary Open House
DESCRIPTION:Lakeland Bakery is hosting an Open House for their Anniversary. All are welcome\, there will be LIVE music from Duke Otherwise 10-11 & The Big Fun Trio 11-2. There will also be drawings for prizes\, face painting\, brats\, hot dogs & hamburgers. Stop by and bring the whole family!
X-ALT-DESC;FMTTYPE=text/html:Lakeland Bakery is hosting an Open House for their Anniversary. All are welcome\, there will be LIVE music from Duke Otherwise 10-11 &amp\; The Big Fun Trio 11-2. There will also be drawings for prizes\, face painting\, brats\, hot dogs &amp\; hamburgers. Stop by and bring the whole family!
LOCATION:Lakeland Bakery 421 N. Wisconsin St Elkhorn\, Wi 53121
UID:e.2059.1706
SEQUENCE:3
DTSTAMP:20260424T141830Z
URL:https://business.elkhornchamber.com/events/details/lakeland-bakery-anniversary-open-house-09-19-2015-1706
END:VEVENT

END:VCALENDAR
