BEGIN:VCALENDAR
VERSION:2.0
PRODID:-//ChamberMaster//Event Calendar 2.0//EN
METHOD:PUBLISH
X-PUBLISHED-TTL:P3D
REFRESH-INTERVAL:P3D
CALSCALE:GREGORIAN
BEGIN:VEVENT
DTSTART:20170916T150000Z
DTEND:20170916T190000Z
X-MICROSOFT-CDO-ALLDAYEVENT:FALSE
SUMMARY:Lakeland Bakery 60th Anniversary
DESCRIPTION:60th Anniversary Open House at Lakeland Bakery \n\n10:00 am - 2:00 pm \n\nRaffle  Prizes  Entertainment\n\nBrats hotdogs Hamburgers
X-ALT-DESC;FMTTYPE=text/html:60th Anniversary Open House at Lakeland Bakery&nbsp\;<br />\n10:00 am - 2:00 pm&nbsp\;<br />\nRaffle &nbsp\;Prizes &nbsp\;Entertainment<br />\nBrats hotdogs Hamburgers
LOCATION:421 N. Wisconsin Street Elkhorn\, WI 53121
UID:e.2059.6089
SEQUENCE:3
DTSTAMP:20260422T214212Z
URL:https://business.elkhornchamber.com/events/details/lakeland-bakery-60th-anniversary-6089
END:VEVENT

END:VCALENDAR
