BEGIN:VCALENDAR
VERSION:2.0
PRODID:-//ChamberMaster//Event Calendar 2.0//EN
METHOD:PUBLISH
X-PUBLISHED-TTL:P3D
REFRESH-INTERVAL:P3D
CALSCALE:GREGORIAN
BEGIN:VEVENT
DTSTART;VALUE=DATE:20170814
DTEND;VALUE=DATE:20170815
TRANSP:TRANSPARENT
X-MICROSOFT-CDO-ALLDAYEVENT:TRUE
SUMMARY:Lakeland Animal Shelter Scramble
DESCRIPTION:We have a perfect event for you to support the care of animals all the while having fun on your summer break! Check out the 2017 Lakeland Animal Shelter Scramble coming up on August 14th! More information to come.
X-ALT-DESC;FMTTYPE=text/html:We have a perfect event for you to support the care of animals all the while having fun on your summer break! Check out the 2017 <span class="highlightNode">Lakeland Animal Shelter Scramble</span> coming up on August 14th! More information to come.
LOCATION:Hawks View Golf Club\, Lake Geneva
UID:e.2059.4695
SEQUENCE:3
DTSTAMP:20260423T011813Z
URL:https://business.elkhornchamber.com/events/details/lakeland-animal-shelter-scramble-4695
END:VEVENT

END:VCALENDAR
