BEGIN:VCALENDAR
VERSION:2.0
PRODID:-//ChamberMaster//Event Calendar 2.0//EN
METHOD:PUBLISH
X-PUBLISHED-TTL:P3D
REFRESH-INTERVAL:P3D
CALSCALE:GREGORIAN
BEGIN:VEVENT
DTSTART;VALUE=DATE:20180811
DTEND;VALUE=DATE:20180812
TRANSP:TRANSPARENT
X-MICROSOFT-CDO-ALLDAYEVENT:TRUE
SUMMARY:Lakeland Animal Shelter Golf Scramble
DESCRIPTION:Join us for a classic day of golf\, food\, and more at the Shelter Scramble\, on Saturday\, August 11th at Evergreen Golf Course\, Elkhorn\, WI\n\nEnjoy 18-holes\, lunch and dinner options\, and hole prize opportunities while helping to support Lakeland Animal Shelter.\n\nAll proceeds will go toward providing care for animals in need of a loving\, forever home.\n\nInterested in sponsoring? Contact kperry@lakelandanimalshelter.org.
X-ALT-DESC;FMTTYPE=text/html:<p style="margin: 0px 0px 20px\; padding: 0px\; border: 0px\; font-variant-numeric: inherit\; font-variant-east-asian: inherit\; font-stretch: inherit\; font-size: 14px\; line-height: 18px\; font-family: &quot\;myriad pro&quot\;\, arial\, helvetica\, sans-serif\; vertical-align: baseline\; color: rgb(38\, 38\, 38)\;">Join us for a classic day of golf\, food\, and more at the Shelter Scramble\, on Saturday\, August 11th at Evergreen Golf Course\, Elkhorn\, WI</p>\n\n<p style="margin: 0px 0px 20px\; padding: 0px\; border: 0px\; font-variant-numeric: inherit\; font-variant-east-asian: inherit\; font-stretch: inherit\; font-size: 14px\; line-height: 18px\; font-family: &quot\;myriad pro&quot\;\, arial\, helvetica\, sans-serif\; vertical-align: baseline\; color: rgb(38\, 38\, 38)\;">Enjoy 18-holes\, lunch and dinner options\, and hole prize opportunities while helping to support Lakeland Animal Shelter.</p>\n\n<p style="margin: 0px 0px 20px\; padding: 0px\; border: 0px\; font-variant-numeric: inherit\; font-variant-east-asian: inherit\; font-stretch: inherit\; font-size: 14px\; line-height: 18px\; font-family: &quot\;myriad pro&quot\;\, arial\, helvetica\, sans-serif\; vertical-align: baseline\; color: rgb(38\, 38\, 38)\;">All proceeds will go toward providing care for animals in need of a loving\, forever home.</p>\n\n<p style="margin: 0px 0px 20px\; padding: 0px\; border: 0px\; font-variant-numeric: inherit\; font-variant-east-asian: inherit\; font-stretch: inherit\; font-size: 14px\; line-height: 18px\; font-family: &quot\;myriad pro&quot\;\, arial\, helvetica\, sans-serif\; vertical-align: baseline\; color: rgb(38\, 38\, 38)\;">Interested in sponsoring? Contact&nbsp\;<a href="mailto:kperry@lakelandanimalshelter.org?subject=Shelter%20Scramble" style="margin: 0px\; padding: 0px\; border: 0px\; font: inherit\; vertical-align: baseline\; color: rgb(1\, 93\, 127)\; text-decoration-line: none\;">kperry@lakelandanimalshelter.org</a>.</p>\n
LOCATION:Evergreen Country Club\, N6246 US-12\, Elkhorn\, WI 53121
UID:e.2059.8805
SEQUENCE:3
DTSTAMP:20260422T054816Z
URL:https://business.elkhornchamber.com/events/details/lakeland-animal-shelter-golf-scramble-8805
END:VEVENT

END:VCALENDAR
