BEGIN:VCALENDAR
VERSION:2.0
PRODID:-//ChamberMaster//Event Calendar 2.0//EN
METHOD:PUBLISH
X-PUBLISHED-TTL:P3D
REFRESH-INTERVAL:P3D
CALSCALE:GREGORIAN
BEGIN:VEVENT
DTSTART;VALUE=DATE:20190601
DTEND;VALUE=DATE:20190610
TRANSP:TRANSPARENT
X-MICROSOFT-CDO-ALLDAYEVENT:TRUE
SUMMARY:Lake Geneva Restaurant Week
DESCRIPTION:The Charity Check\n\nSponsored by Lake Geneva Country Meats\n\nRestaurant Week isn't just about great food\, it's also about great causes. With each meal out\, you have the opportunity to vote for one of six charities in the running for the $5\,000 "Charity Check." At the end of your meal\, look for the ballot presented with the bill. The top vote recipient at the end of the week will receive $5\,000 to invest in its mission. This is made possible through the generous support of Lake Geneva Country Meats.\n\nLEARN MORE
X-ALT-DESC;FMTTYPE=text/html:<h2 style="box-sizing: inherit\; margin: 0px 0px 0.5rem\; padding: 0px\; font-family: Roboto\, Tahoma\, sans-serif\; font-weight: 800\; color: rgb(20\, 21\, 70)\; text-rendering: optimizeLegibility\; line-height: 1.4\; font-size: 1.5rem\; background-color: rgb(235\, 235\, 235)\;">The Charity Check</h2>\n\n<h3 style="box-sizing: inherit\; margin: 0px 0px 0.5rem\; padding: 0px\; font-family: Roboto\, Tahoma\, sans-serif\; font-weight: 800\; color: rgb(20\, 21\, 70)\; text-rendering: optimizeLegibility\; font-size: 1.188rem\; line-height: 1.4\; background-color: rgb(235\, 235\, 235)\;"><span style="box-sizing: inherit\; color: rgb(128\, 0\, 0)\;">Sponsored by Lake Geneva Country Meats</span></h3>\n\n<p style="box-sizing: inherit\; margin: 0px 0px 1rem\; padding: 0px\; font-size: 18px\; line-height: 1.6\; text-rendering: optimizeLegibility\; font-family: &quot\;Open Sans&quot\;\, Arial\, sans-serif\; -webkit-font-smoothing: antialiased\; color: rgb(3\, 3\, 3)\; background-color: rgb(235\, 235\, 235)\;">Restaurant Week isn&rsquo\;t just about great food\, it&rsquo\;s also about great causes. With each meal out\, you have the opportunity to vote for one of six&nbsp\;charities in the running for the $5\,000 &ldquo\;Charity Check.&rdquo\; At the end of your meal\, look for the ballot presented with the bill. The top vote recipient at the end of the&nbsp\;week will receive $5\,000 to invest in its mission. This&nbsp\;is made possible through the generous support of Lake Geneva Country Meats.</p>\n\n<p style="box-sizing: inherit\; margin: 0px 0px 1rem\; padding: 0px\; font-size: 18px\; line-height: 1.6\; text-rendering: optimizeLegibility\; font-family: &quot\;Open Sans&quot\;\, Arial\, sans-serif\; -webkit-font-smoothing: antialiased\; color: rgb(3\, 3\, 3)\; background-color: rgb(235\, 235\, 235)\;"><a class="button" href="https://www.lakegenevacountrymeats.com/blog/community-information/lake-geneva-restaurant-week-2018-charity-check" rel="noopener" style="box-sizing: inherit\; background-color: rgb(20\, 21\, 70)\; line-height: 1.4\; color: rgb(254\, 254\, 254)\; text-decoration-line: none\; cursor: pointer\; transition: background-color 0.25s ease-out\, color 0.25s ease-out\; display: inline-block\; vertical-align: middle\; margin: 0px 0px 1rem\; padding: 0.75rem 2rem\; -webkit-appearance: none\; border: 1px solid transparent\; border-radius: 4px\; text-align: center\; text-transform: uppercase\; font-weight: 700\; font-family: Roboto\, sans-serif\; outline: 0px\; font-size: 0.9rem !important\;" target="_blank">LEARN MORE</a></p>\n
LOCATION:Walworth County Participating Restaurants
UID:e.2059.10756
SEQUENCE:3
DTSTAMP:20260421T032727Z
URL:https://business.elkhornchamber.com/events/details/lake-geneva-restaurant-week-10756
END:VEVENT

END:VCALENDAR
