BEGIN:VCALENDAR
VERSION:2.0
PRODID:-//ChamberMaster//Event Calendar 2.0//EN
METHOD:PUBLISH
X-PUBLISHED-TTL:P3D
REFRESH-INTERVAL:P3D
CALSCALE:GREGORIAN
BEGIN:VEVENT
DTSTART:20150221T160000Z
DTEND:20150221T230000Z
X-MICROSOFT-CDO-ALLDAYEVENT:FALSE
SUMMARY:Lake Geneva Home Improvement Expo
DESCRIPTION:The Lakeland Builders Association presents the Lake Geneva Home Improvement Expo at the Grand Geneva Resort. See Home Remodelers\, Landscapers\, Flooring Experts\, Custom Window Covering Professionals and so much more. Exhibitors are ready to help you with your next home improvement project.\n\n\n\nAlso available will be free children's workshops on building\, masonry and planting\; Taste of the Lakes where you can sample tasty bites from area restaurants\; as well as Raffle prizes.
X-ALT-DESC;FMTTYPE=text/html:The Lakeland Builders Association presents the Lake Geneva Home Improvement Expo at the Grand Geneva Resort. See Home Remodelers\, Landscapers\, Flooring Experts\, Custom Window Covering Professionals and so much more. Exhibitors are ready to help you with your next home improvement project.<br />\n<br />\nAlso available will be free children&#39\;s workshops on building\, masonry and planting\; Taste of the Lakes where you can sample tasty bites from area restaurants\; as well as Raffle prizes.
LOCATION:Grand Geneva Resort Hwy 12 & 50 in Lake Geneva
UID:e.2059.935
SEQUENCE:3
DTSTAMP:20260425T023010Z
URL:https://business.elkhornchamber.com/events/details/lake-geneva-home-improvement-expo-02-21-2015-935
END:VEVENT

END:VCALENDAR
