BEGIN:VCALENDAR
VERSION:2.0
PRODID:-//ChamberMaster//Event Calendar 2.0//EN
METHOD:PUBLISH
X-PUBLISHED-TTL:P3D
REFRESH-INTERVAL:P3D
CALSCALE:GREGORIAN
BEGIN:VEVENT
DTSTART:20140517T120000Z
DTEND:20140517T170000Z
X-MICROSOFT-CDO-ALLDAYEVENT:FALSE
SUMMARY:Lake Geneva 2nd Annual 5K & 10K Touchdown Run
DESCRIPTION:Welcome to the 2nd Annual Lake Geneva 5K & 10K Touchdown Run/Walk! This event will be taking place at Big Foot Beach State Park\, located in beautiful Lake Geneva\, Wisconsin. Enjoy a beautiful run/walk through Big Foot Beach State Park with family and friends\, as the route will follow the state park hiking trails! The race will start with all runners\; to be followed by those who would like to walk or will be walking with family\, friends and children.
X-ALT-DESC;FMTTYPE=text/html:Welcome to the 2nd Annual Lake Geneva 5K &amp\; 10K Touchdown Run/Walk! This event will be taking place at Big Foot Beach State Park\, located in beautiful Lake Geneva\, Wisconsin. Enjoy a beautiful run/walk through Big Foot Beach State Park with family and friends\, as the route will follow the state park hiking trails! The race will start with all runners\; to be followed by those who would like to walk or will be walking with family\, friends and children.
LOCATION:Big Foot Beach State Park 1550 S. Lake Shore Drive Lake Geneva
UID:e.2059.38
SEQUENCE:3
DTSTAMP:20260425T200451Z
URL:https://business.elkhornchamber.com/events/details/lake-geneva-2nd-annual-5k-10k-touchdown-run-05-17-2014-38
END:VEVENT

END:VCALENDAR
