BEGIN:VCALENDAR
VERSION:2.0
PRODID:-//ChamberMaster//Event Calendar 2.0//EN
METHOD:PUBLISH
X-PUBLISHED-TTL:P3D
REFRESH-INTERVAL:P3D
CALSCALE:GREGORIAN
BEGIN:VEVENT
DTSTART:20260423T223000Z
DTEND:20260424T003000Z
X-MICROSOFT-CDO-ALLDAYEVENT:FALSE
SUMMARY:Ladies Shop Night and Brim & Burn Hat Bar
DESCRIPTION:??? Ladies Night at the Barn just got even better  ??? We're opening the doors for a Spring Ladies Shop Night on Thursday\, April 23rd from 5:30 7:30pm ?? Come be the first to shop new merchandise\, enjoy charcuterie + drinks\, and spend a fun\, relaxed evening at the barn with your girlfriends. ?? Brim & Burn Hat Bar will still be happening! You can sign up ahead of time to guarantee your spot or join in as a drop-in while you're here. (But let's be honest  signing up ahead is the way to go ??) Grab your girls\, make a night of it\, and come soak in a little spring at the barn.
X-ALT-DESC;FMTTYPE=text/html:??? Ladies Night at the Barn just got even better&hellip\; ??? We&rsquo\;re opening the doors for a Spring Ladies Shop Night on Thursday\, April 23rd from 5:30&ndash\;7:30pm ?? Come be the first to shop new merchandise\, enjoy charcuterie + drinks\, and spend a fun\, relaxed evening at the barn with your girlfriends. ?? Brim &amp\; Burn Hat Bar will still be happening! You can sign up ahead of time to guarantee your spot or join in as a drop-in while you&rsquo\;re here. (But let&rsquo\;s be honest&hellip\; signing up ahead is the way to go ??) Grab your girls\, make a night of it\, and come soak in a little spring at the barn.
LOCATION:202 Grant Street Elkhorn\, WI 53121
UID:e.2059.16915
SEQUENCE:3
DTSTAMP:20260420T174952Z
URL:https://business.elkhornchamber.com/events/details/ladies-shop-night-and-brim-burn-hat-bar-16915
END:VEVENT

END:VCALENDAR
