BEGIN:VCALENDAR
VERSION:2.0
PRODID:-//ChamberMaster//Event Calendar 2.0//EN
METHOD:PUBLISH
X-PUBLISHED-TTL:P3D
REFRESH-INTERVAL:P3D
CALSCALE:GREGORIAN
BEGIN:VEVENT
DTSTART:20170426T160000Z
DTEND:20170426T180000Z
X-MICROSOFT-CDO-ALLDAYEVENT:FALSE
SUMMARY:Ladies Guild Spring Salad Luncheon
DESCRIPTION:Join the St. Patrick Parish for their Ladies Guild Spring Salad Luncheon held in their St. Anthony Hall on the Lower level.\n\n$9.00 Eat In or Carry Outs
X-ALT-DESC;FMTTYPE=text/html:Join the St. Patrick Parish for their Ladies Guild Spring Salad Luncheon held in their St. Anthony Hall on the Lower level.<br />\n$9.00 Eat In or Carry Outs<br />\n&nbsp\;
LOCATION:St. Patrick's Church St. Anthony Hall- Lower Level 107 W. Walworth St Elkhorn\, WI
UID:e.2059.5006
SEQUENCE:3
DTSTAMP:20260423T074604Z
URL:https://business.elkhornchamber.com/events/details/ladies-guild-spring-salad-luncheon-5006
END:VEVENT

END:VCALENDAR
