BEGIN:VCALENDAR
VERSION:2.0
PRODID:-//ChamberMaster//Event Calendar 2.0//EN
METHOD:PUBLISH
X-PUBLISHED-TTL:P3D
REFRESH-INTERVAL:P3D
CALSCALE:GREGORIAN
BEGIN:VEVENT
DTSTART;VALUE=DATE:20170612
DTEND;VALUE=DATE:20170613
TRANSP:TRANSPARENT
X-MICROSOFT-CDO-ALLDAYEVENT:TRUE
SUMMARY:Koshkonong Mounds Golf Outing 13th Annual Golf for Kids Sake
DESCRIPTION:13th Annual Golf for Kids Sake: Koshkonong Mounds Golf Outing.\n\nAre you ready for another great golf outing? We would like to invite you to our Koshkonong Mounds Golf Outing this summer. Join us and many others for a fantastic ay of golf and activities.\n\nOver the past 12 years\, more than $80\,000.00 has been raised for youth mentoring programs in southern Wisconsin. A huge thank you for all the support from you\, our area businesses\, golfers and community members. 100% of the proceeds raised at Golf For Kids Sake will support the Big Brothers Big Sisters local youth mentoring programs. For more information email mikeg@bbbs4kids.org or call 262-728-8865.
X-ALT-DESC;FMTTYPE=text/html:13th Annual Golf for Kids Sake: Koshkonong Mounds Golf Outing.<br />\nAre you ready for another great golf outing? We would like to invite you to our Koshkonong Mounds Golf Outing this summer. Join us and many others for a fantastic ay of golf and activities.<br />\nOver the past 12 years\, more than $80\,000.00 has been raised for youth mentoring programs in southern Wisconsin. A huge thank you for all the support from you\, our area businesses\, golfers and community members. 100% of the proceeds raised at Golf For Kids Sake will support the Big Brothers Big Sisters local youth mentoring programs. For more information email <a href="mailto:mikeg@bbbs4kids.org">mikeg@bbbs4kids.org</a> or call 262-728-8865.
LOCATION:Koshkonong Mounds Country Club W7670 Koshkonong Mounds Rd Fort Atkinson\, WI 53538
UID:e.2059.5057
SEQUENCE:3
DTSTAMP:20260423T042132Z
URL:https://business.elkhornchamber.com/events/details/koshkonong-mounds-golf-outing-13th-annual-golf-for-kids-sake-5057
END:VEVENT

END:VCALENDAR
