BEGIN:VCALENDAR
VERSION:2.0
PRODID:-//ChamberMaster//Event Calendar 2.0//EN
METHOD:PUBLISH
X-PUBLISHED-TTL:P3D
REFRESH-INTERVAL:P3D
CALSCALE:GREGORIAN
BEGIN:VEVENT
DTSTART:20170819T000000Z
DTEND:20170819T020000Z
X-MICROSOFT-CDO-ALLDAYEVENT:FALSE
SUMMARY:Kids from Wisconsin Performance in Waterford
DESCRIPTION:This performance is hosted by the Elkhorn Rotary.\n\nDue to an unfortunate fire at the Elkhorn High School theater\, this performance has been changed to take place at the Waterford High School theater.\n\nThe Kids from Wisconsin thank Waterford High School for their generosity of their theater as well as the Elkhorn Rotary Club for hosting the final performance. This performance will be a benefit for the Elkhorn High School Theatre.\n\nGet your tickets ASAP. Only 500 will be sold.\n\n \n\n\n\n\n\nThe Kids From Wisconsin revue is produced in collaboration with some of this country's best writers\, arrangers\, and choreographers. Costumes are designed and created in Broadway style\, adding to the already exciting performance. Performing a broad repertoire of music that includes the American favorites\, big band\, 50's- 80's classics\, Motown\, country\, Broadway and current top hits\, filling a two hour fully staged Broadway style performance.\n\n\n\nTickets available online: http://www.brownpapertickets.com/event/3003155\n\nOr at these locations: Elkhorn Chamber of Commerce\, Matheson Memorial Library\, and Peoples Bank\n\n\n\nRegister for the free\, performing arts workshop at 3:30 PM\n\nhttp://www.kidsfromwisconsin.org/
X-ALT-DESC;FMTTYPE=text/html:<span class="_4n-j _fbReactionComponent__eventDetailsContentTags fsl" data-testid="event-permalink-details">This performance is hosted by the Elkhorn Rotary.</span>\n<div class="_5pbx userContent" data-ft="{&quot\;tn&quot\;:&quot\;K&quot\;}" id="js_8is">\n<p>Due to an unfortunate fire at the Elkhorn High School theater\, this performance has been changed to take place at the Waterford High School theater.</p>\n\n<p>The Kids from Wisconsin thank Waterford High School for their generosity of their theater as well as the <a class="profileLink" data-hovercard="/ajax/hovercard/page.php?id=281712908946896&amp\;extragetparams=%7B%22fref%22%3A%22mentions%22%2C%22directed_target_id%22%3A1693105680988322%7D" data-hovercard-prefer-more-content-show="1" href="https://www.facebook.com/ElkhornRotaryClub/?fref=mentions">Elkhorn Rotary Club</a> for hosting the final performance. This performance will be a benefit for the Elkhorn High School Theatre.</p>\n\n<p>Get your tickets ASAP. Only 500 will be sold.<br />\n&nbsp\;</p>\n</div>\n<br />\n<br />\n<span class="_4n-j _fbReactionComponent__eventDetailsContentTags fsl" data-testid="event-permalink-details">The Kids From Wisconsin revue is produced in collaboration with some of this country&#39\;s best writers\, arrangers\, and choreographers. Costumes are designed and created in Broadway style\, adding to the already exciting performance. Performing a broad repertoire of music that includes the American favorites\, big band\, 50&#39\;s- 80&#39\;s classics\, Motown\, country\, Broadway and current top hits\, filling a two hour fully staged Broadway style performance.<br />\n<br />\nTickets available online: <a href="http://www.brownpapertickets.com/event/3003155" rel="nofollow nofollow" target="_blank"><span>http://</span><wbr /><span>www.brownpapertickets.com/</span><wbr />event/3003155</a><br />\nOr at these locations: Elkhorn Chamber of Commerce\, Matheson Memorial Library\, and Peoples Bank<br />\n<br />\nRegister for the free\, performing arts workshop at 3:30 PM<br />\n<a href="http://www.kidsfromwisconsin.org/" rel="nofollow nofollow" target="_blank"><span>http://</span><wbr />www.kidsfromwisconsin.org/</a></span>
LOCATION:pin Hide Map Waterford Union High School 100 Field Dr\, Waterford\, Wisconsin 53185
UID:e.2059.5496
SEQUENCE:3
DTSTAMP:20260422T233336Z
URL:https://business.elkhornchamber.com/events/details/kids-from-wisconsin-performance-in-waterford-5496
END:VEVENT

END:VCALENDAR
