BEGIN:VCALENDAR
VERSION:2.0
PRODID:-//ChamberMaster//Event Calendar 2.0//EN
METHOD:PUBLISH
X-PUBLISHED-TTL:P3D
REFRESH-INTERVAL:P3D
CALSCALE:GREGORIAN
BEGIN:VEVENT
DTSTART;VALUE=DATE:20180928
DTEND;VALUE=DATE:20180929
TRANSP:TRANSPARENT
X-MICROSOFT-CDO-ALLDAYEVENT:TRUE
SUMMARY:Keefe Kares Fundraiser
DESCRIPTION:Keefe Kares Fundraiser. More information to come.
X-ALT-DESC;FMTTYPE=text/html:Keefe Kares Fundraiser. More information to come.&nbsp\;
LOCATION:Walworth County Fairgrounds 411 E. Court St Elkhorn\, Wi
UID:e.2059.8915
SEQUENCE:3
DTSTAMP:20260422T020553Z
URL:https://business.elkhornchamber.com/events/details/keefe-kares-fundraiser-8915
END:VEVENT

END:VCALENDAR
